BEGIN:VCALENDAR
VERSION:2.0
PRODID:-//Castle Danger Brewing - ECPv6.15.20//NONSGML v1.0//EN
CALSCALE:GREGORIAN
METHOD:PUBLISH
X-ORIGINAL-URL:https://castledangerbrewery.com
X-WR-CALDESC:Events for Castle Danger Brewing
REFRESH-INTERVAL;VALUE=DURATION:PT1H
X-Robots-Tag:noindex
X-PUBLISHED-TTL:PT1H
BEGIN:VTIMEZONE
TZID:America/Chicago
BEGIN:DAYLIGHT
TZOFFSETFROM:-0600
TZOFFSETTO:-0500
TZNAME:CDT
DTSTART:20240310T080000
END:DAYLIGHT
BEGIN:STANDARD
TZOFFSETFROM:-0500
TZOFFSETTO:-0600
TZNAME:CST
DTSTART:20241103T070000
END:STANDARD
BEGIN:DAYLIGHT
TZOFFSETFROM:-0600
TZOFFSETTO:-0500
TZNAME:CDT
DTSTART:20250309T080000
END:DAYLIGHT
BEGIN:STANDARD
TZOFFSETFROM:-0500
TZOFFSETTO:-0600
TZNAME:CST
DTSTART:20251102T070000
END:STANDARD
BEGIN:DAYLIGHT
TZOFFSETFROM:-0600
TZOFFSETTO:-0500
TZNAME:CDT
DTSTART:20260308T080000
END:DAYLIGHT
BEGIN:STANDARD
TZOFFSETFROM:-0500
TZOFFSETTO:-0600
TZNAME:CST
DTSTART:20261101T070000
END:STANDARD
BEGIN:DAYLIGHT
TZOFFSETFROM:-0600
TZOFFSETTO:-0500
TZNAME:CDT
DTSTART:20270314T080000
END:DAYLIGHT
BEGIN:STANDARD
TZOFFSETFROM:-0500
TZOFFSETTO:-0600
TZNAME:CST
DTSTART:20271107T070000
END:STANDARD
END:VTIMEZONE
BEGIN:VEVENT
DTSTART;TZID=America/Chicago:20260327T180000
DTEND;TZID=America/Chicago:20260327T200000
DTSTAMP:20260424T095658
CREATED:20260119T192242Z
LAST-MODIFIED:20260219T185335Z
UID:10009270-1774634400-1774641600@castledangerbrewery.com
SUMMARY:Pints for a Cause: Beer Release Party Benefiting Two Harbors Area Food Shelf
DESCRIPTION:Join us for an evening of great beer\, good food\, and community spirit as we celebrate our next Pints for a Cause release benefiting Two Harbors Area Food Shelf with a special beer release\, live music & great food \nSpecial Release: Kristall-Weizen – A clear\, filtered German-style wheat beer that delivers classic wheat beer flavors\, light banana and clove notes without the haze. It’s bright\, elegant\, and highly refreshing\, brewed on our small-batch system just for this event.\nLive Music: John Cron & Jim Elverhoy (6–8 PM)\nFood Truck: The Rainy Rose serving up delicious eats \n  \nPints for a Cause BOGO Deal:\nDonate $5 or more to Two Harbors Area Food Shelf during the event and receive a Buy One\, Get One pint card (limit one per guest). \nThis is a night to raise a glass for a great cause! Come support a local organization doing incredible work for our North Shore community while enjoying craft beer\, live music\, and local flavor. \nLearn more about our Pints for a Cause program
URL:https://castledangerbrewery.com/event/pints-for-a-cause-beer-release-party-benefiting-two-harbors-area-food-shelf/
LOCATION:Castle Danger Brewery\, 17 7th Street\, Two Harbors\, MN\, 55616\, United States
CATEGORIES:Pints for a Cause Beer Release Party
ATTACH;FMTTYPE=image/png:https://castledangerbrewery.com/wp-content/uploads/PFAC-Food-Shelf-square-graphic.png
GEO:47.0197477;-91.6728918
X-APPLE-STRUCTURED-LOCATION;VALUE=URI;X-ADDRESS=Castle Danger Brewery 17 7th Street Two Harbors MN 55616 United States;X-APPLE-RADIUS=500;X-TITLE=17 7th Street:geo:-91.6728918,47.0197477
END:VEVENT
BEGIN:VEVENT
DTSTART;TZID=America/Chicago:20260123T180000
DTEND;TZID=America/Chicago:20260123T200000
DTSTAMP:20260424T095658
CREATED:20260119T191337Z
LAST-MODIFIED:20260119T193202Z
UID:10009269-1769191200-1769198400@castledangerbrewery.com
SUMMARY:Pints for a Cause: Beer Release Party Benefiting Brimson Strong Community Support & Recovery
DESCRIPTION:Join us for an evening of great beer\, good food\, and community spirit as we celebrate our next Pints for a Cause release benefiting Brimson Strong Community Support & Recovery \nSpecial Release: Ashes to Ale\, a Heavy Cream Ale – a Cream Ale with a bigger body and bolder alcohol brewed on our small-batch system just for this event.\nLive Music: Northeast Timberland Band (6–8 PM)\nFood Truck: The Rainy Rose serving up delicious eats. \nPints for a Cause BOGO Deal:\nDonate $5 or more to Brimson Strong Community Support & Recovery during the event and receive a Buy One\, Get One pint card (limit one per guest). \nThis is a night to raise a glass for a great cause! Come support a local organization doing incredible work for our North Shore community while enjoying craft beer\, live music\, and local flavor. \nLearn more about our Pints for a Cause program
URL:https://castledangerbrewery.com/event/pints-for-a-cause-beer-release-party-benefiting-brimson-strong-community-support-recovery/
LOCATION:Castle Danger Brewery\, 17 7th Street\, Two Harbors\, MN\, 55616\, United States
CATEGORIES:Pints for a Cause Beer Release Party
ATTACH;FMTTYPE=image/png:https://castledangerbrewery.com/wp-content/uploads/PFAC-Brimson-Strong-Poster.png
GEO:47.0197477;-91.6728918
X-APPLE-STRUCTURED-LOCATION;VALUE=URI;X-ADDRESS=Castle Danger Brewery 17 7th Street Two Harbors MN 55616 United States;X-APPLE-RADIUS=500;X-TITLE=17 7th Street:geo:-91.6728918,47.0197477
END:VEVENT
BEGIN:VEVENT
DTSTART;TZID=America/Chicago:20251128T180000
DTEND;TZID=America/Chicago:20251128T200000
DTSTAMP:20260424T095658
CREATED:20251021T184550Z
LAST-MODIFIED:20251021T185111Z
UID:10008826-1764352800-1764360000@castledangerbrewery.com
SUMMARY:Pints for a Cause Beer Release Party Benefiting Community Partners
DESCRIPTION:Join us for an evening of great beer\, good food\, and community spirit as we celebrate our next Pints for a Cause release benefiting Community Partners. \nSpecial Release: Irish Stout – a smooth\, roasty classic brewed on our small-batch system just for this event.Live Music: Samantha Grimes (6–8 PM)Food Truck: The Rainy Rose serving up delicious eats. \nPints for a Cause BOGO Deal:Donate $5 or more to Community Partners during the event and receive a Buy One\, Get One pint card (limit one per guest). \nThis is a night to raise a glass for a great cause! Come support a local organization doing incredible work for our North Shore community while enjoying craft beer\, live music\, and local flavor.
URL:https://castledangerbrewery.com/event/pints-for-a-cause-beer-release-party-benefiting-community-partners/
LOCATION:Castle Danger Brewery\, 17 7th Street\, Two Harbors\, MN\, 55616\, United States
CATEGORIES:Pints for a Cause Beer Release Party
ATTACH;FMTTYPE=image/png:https://castledangerbrewery.com/wp-content/uploads/2025-PFAC-Release-Community-Partners_Social-Graphic.png
GEO:47.0197477;-91.6728918
X-APPLE-STRUCTURED-LOCATION;VALUE=URI;X-ADDRESS=Castle Danger Brewery 17 7th Street Two Harbors MN 55616 United States;X-APPLE-RADIUS=500;X-TITLE=17 7th Street:geo:-91.6728918,47.0197477
END:VEVENT
END:VCALENDAR