BEGIN:VCALENDAR
VERSION:2.0
PRODID:-//Castle Danger Brewing - ECPv6.15.20//NONSGML v1.0//EN
CALSCALE:GREGORIAN
METHOD:PUBLISH
X-WR-CALNAME:Castle Danger Brewing
X-ORIGINAL-URL:https://castledangerbrewery.com
X-WR-CALDESC:Events for Castle Danger Brewing
REFRESH-INTERVAL;VALUE=DURATION:PT1H
X-Robots-Tag:noindex
X-PUBLISHED-TTL:PT1H
BEGIN:VTIMEZONE
TZID:America/Chicago
BEGIN:DAYLIGHT
TZOFFSETFROM:-0600
TZOFFSETTO:-0500
TZNAME:CDT
DTSTART:20240310T080000
END:DAYLIGHT
BEGIN:STANDARD
TZOFFSETFROM:-0500
TZOFFSETTO:-0600
TZNAME:CST
DTSTART:20241103T070000
END:STANDARD
BEGIN:DAYLIGHT
TZOFFSETFROM:-0600
TZOFFSETTO:-0500
TZNAME:CDT
DTSTART:20250309T080000
END:DAYLIGHT
BEGIN:STANDARD
TZOFFSETFROM:-0500
TZOFFSETTO:-0600
TZNAME:CST
DTSTART:20251102T070000
END:STANDARD
BEGIN:DAYLIGHT
TZOFFSETFROM:-0600
TZOFFSETTO:-0500
TZNAME:CDT
DTSTART:20260308T080000
END:DAYLIGHT
BEGIN:STANDARD
TZOFFSETFROM:-0500
TZOFFSETTO:-0600
TZNAME:CST
DTSTART:20261101T070000
END:STANDARD
END:VTIMEZONE
BEGIN:VEVENT
DTSTART;TZID=America/Chicago:20250504T110000
DTEND;TZID=America/Chicago:20250504T210000
DTSTAMP:20260419T232645
CREATED:20250429T160339Z
LAST-MODIFIED:20250429T160503Z
UID:10007950-1746356400-1746392400@castledangerbrewery.com
SUMMARY:Stock Up Sunday
DESCRIPTION:Buy one get one 1/2 off on all crowlers and growlers!
URL:https://castledangerbrewery.com/event/stock-up-sunday/2025-05-04/
LOCATION:Castle Danger Brewery\, 17 7th Street\, Two Harbors\, MN\, 55616\, United States
CATEGORIES:Weekly Specials
GEO:47.0197477;-91.6728918
X-APPLE-STRUCTURED-LOCATION;VALUE=URI;X-ADDRESS=Castle Danger Brewery 17 7th Street Two Harbors MN 55616 United States;X-APPLE-RADIUS=500;X-TITLE=17 7th Street:geo:-91.6728918,47.0197477
END:VEVENT
BEGIN:VEVENT
DTSTART;VALUE=DATE:20250502
DTEND;VALUE=DATE:20250503
DTSTAMP:20260419T232645
CREATED:20250429T155048Z
LAST-MODIFIED:20250429T155048Z
UID:10007831-1746144000-1746230399@castledangerbrewery.com
SUMMARY:Flight Night
DESCRIPTION:Buy a flight and get a free 11 oz. pour of your favorite sample. Valid all day.
URL:https://castledangerbrewery.com/event/flight-night/2025-05-02/
LOCATION:Castle Danger Brewery\, 17 7th Street\, Two Harbors\, MN\, 55616\, United States
CATEGORIES:Weekly Specials
GEO:47.0197477;-91.6728918
X-APPLE-STRUCTURED-LOCATION;VALUE=URI;X-ADDRESS=Castle Danger Brewery 17 7th Street Two Harbors MN 55616 United States;X-APPLE-RADIUS=500;X-TITLE=17 7th Street:geo:-91.6728918,47.0197477
END:VEVENT
BEGIN:VEVENT
DTSTART;VALUE=DATE:20250501
DTEND;VALUE=DATE:20250502
DTSTAMP:20260419T232645
CREATED:20250211T222034Z
LAST-MODIFIED:20250429T155259Z
UID:10007737-1746057600-1746143999@castledangerbrewery.com
SUMMARY:Thursday Pizza and Pints
DESCRIPTION:Order or bring in a pizza from either Northshore Pizza Cafe or Do North Pizza and get $1 off up to four pints.
URL:https://castledangerbrewery.com/event/thursday-pizza-and-pints/2025-05-01/
LOCATION:Castle Danger Brewery\, 17 7th Street\, Two Harbors\, MN\, 55616\, United States
CATEGORIES:Weekly Specials
ATTACH;FMTTYPE=image/png:https://castledangerbrewery.com/wp-content/uploads/Pizza-and-Pints-Logo-FINAL.png
GEO:47.0197477;-91.6728918
X-APPLE-STRUCTURED-LOCATION;VALUE=URI;X-ADDRESS=Castle Danger Brewery 17 7th Street Two Harbors MN 55616 United States;X-APPLE-RADIUS=500;X-TITLE=17 7th Street:geo:-91.6728918,47.0197477
END:VEVENT
BEGIN:VEVENT
DTSTART;VALUE=DATE:20250430
DTEND;VALUE=DATE:20250501
DTSTAMP:20260419T232645
CREATED:20221108T161721Z
LAST-MODIFIED:20260218T201821Z
UID:10007435-1745971200-1746057599@castledangerbrewery.com
SUMMARY:Double-Points for Loyalty Members
DESCRIPTION:Taproom Loyalty members will receive double-points for their purchases on Wednesdays. Beers\, a t-shirt from the merch store\, another beer\, a growler of your favorite beer to go\, all double-points on Wednesdays. Not a Taproom Loyalty member? Join on your next trip to the brewery or sign up here. 
URL:https://castledangerbrewery.com/event/double-points-for-loyalty-members/2025-04-30/
LOCATION:Castle Danger Brewery\, 17 7th Street\, Two Harbors\, MN\, 55616\, United States
CATEGORIES:Weekly Specials
ATTACH;FMTTYPE=image/png:https://castledangerbrewery.com/wp-content/uploads/4.png
GEO:47.0197477;-91.6728918
X-APPLE-STRUCTURED-LOCATION;VALUE=URI;X-ADDRESS=Castle Danger Brewery 17 7th Street Two Harbors MN 55616 United States;X-APPLE-RADIUS=500;X-TITLE=17 7th Street:geo:-91.6728918,47.0197477
END:VEVENT
BEGIN:VEVENT
DTSTART;VALUE=DATE:20250429
DTEND;VALUE=DATE:20250430
DTSTAMP:20260419T232645
CREATED:20250211T221608Z
LAST-MODIFIED:20250211T221608Z
UID:10007725-1745884800-1745971199@castledangerbrewery.com
SUMMARY:Small Batch Tuesday
DESCRIPTION:Join us at the taproom every Tuesday for $5 off any of our small batch beers. These pilot brews are our experimental batches which means NEW\, EXCITING\, FLAVORS that are exclusive to the taproom…you won’t find them anywhere else!
URL:https://castledangerbrewery.com/event/small-batch-tuesday/2025-04-29/
LOCATION:Castle Danger Brewery\, 17 7th Street\, Two Harbors\, MN\, 55616\, United States
CATEGORIES:Weekly Specials
ATTACH;FMTTYPE=image/png:https://castledangerbrewery.com/wp-content/uploads/Small-Batch-Tuesday-Logo.png
GEO:47.0197477;-91.6728918
X-APPLE-STRUCTURED-LOCATION;VALUE=URI;X-ADDRESS=Castle Danger Brewery 17 7th Street Two Harbors MN 55616 United States;X-APPLE-RADIUS=500;X-TITLE=17 7th Street:geo:-91.6728918,47.0197477
END:VEVENT
BEGIN:VEVENT
DTSTART;TZID=America/Chicago:20250428T160000
DTEND;TZID=America/Chicago:20250428T210000
DTSTAMP:20260419T232645
CREATED:20250429T154410Z
LAST-MODIFIED:20250429T155206Z
UID:10007774-1745856000-1745874000@castledangerbrewery.com
SUMMARY:Happy Hour
DESCRIPTION:$1 off pints every Monday from 4-9pm!
URL:https://castledangerbrewery.com/event/happy-hour/2025-04-28/
LOCATION:Castle Danger Brewery\, 17 7th Street\, Two Harbors\, MN\, 55616\, United States
CATEGORIES:Weekly Specials
GEO:47.0197477;-91.6728918
X-APPLE-STRUCTURED-LOCATION;VALUE=URI;X-ADDRESS=Castle Danger Brewery 17 7th Street Two Harbors MN 55616 United States;X-APPLE-RADIUS=500;X-TITLE=17 7th Street:geo:-91.6728918,47.0197477
END:VEVENT
BEGIN:VEVENT
DTSTART;TZID=America/Chicago:20250427T110000
DTEND;TZID=America/Chicago:20250427T210000
DTSTAMP:20260419T232645
CREATED:20250429T160339Z
LAST-MODIFIED:20250429T160503Z
UID:10007949-1745751600-1745787600@castledangerbrewery.com
SUMMARY:Stock Up Sunday
DESCRIPTION:Buy one get one 1/2 off on all crowlers and growlers!
URL:https://castledangerbrewery.com/event/stock-up-sunday/2025-04-27/
LOCATION:Castle Danger Brewery\, 17 7th Street\, Two Harbors\, MN\, 55616\, United States
CATEGORIES:Weekly Specials
GEO:47.0197477;-91.6728918
X-APPLE-STRUCTURED-LOCATION;VALUE=URI;X-ADDRESS=Castle Danger Brewery 17 7th Street Two Harbors MN 55616 United States;X-APPLE-RADIUS=500;X-TITLE=17 7th Street:geo:-91.6728918,47.0197477
END:VEVENT
BEGIN:VEVENT
DTSTART;VALUE=DATE:20250425
DTEND;VALUE=DATE:20250426
DTSTAMP:20260419T232645
CREATED:20250429T155048Z
LAST-MODIFIED:20250429T155048Z
UID:10007830-1745539200-1745625599@castledangerbrewery.com
SUMMARY:Flight Night
DESCRIPTION:Buy a flight and get a free 11 oz. pour of your favorite sample. Valid all day.
URL:https://castledangerbrewery.com/event/flight-night/2025-04-25/
LOCATION:Castle Danger Brewery\, 17 7th Street\, Two Harbors\, MN\, 55616\, United States
CATEGORIES:Weekly Specials
GEO:47.0197477;-91.6728918
X-APPLE-STRUCTURED-LOCATION;VALUE=URI;X-ADDRESS=Castle Danger Brewery 17 7th Street Two Harbors MN 55616 United States;X-APPLE-RADIUS=500;X-TITLE=17 7th Street:geo:-91.6728918,47.0197477
END:VEVENT
BEGIN:VEVENT
DTSTART;VALUE=DATE:20250424
DTEND;VALUE=DATE:20250425
DTSTAMP:20260419T232645
CREATED:20250211T222034Z
LAST-MODIFIED:20250429T155259Z
UID:10007736-1745452800-1745539199@castledangerbrewery.com
SUMMARY:Thursday Pizza and Pints
DESCRIPTION:Order or bring in a pizza from either Northshore Pizza Cafe or Do North Pizza and get $1 off up to four pints.
URL:https://castledangerbrewery.com/event/thursday-pizza-and-pints/2025-04-24/
LOCATION:Castle Danger Brewery\, 17 7th Street\, Two Harbors\, MN\, 55616\, United States
CATEGORIES:Weekly Specials
ATTACH;FMTTYPE=image/png:https://castledangerbrewery.com/wp-content/uploads/Pizza-and-Pints-Logo-FINAL.png
GEO:47.0197477;-91.6728918
X-APPLE-STRUCTURED-LOCATION;VALUE=URI;X-ADDRESS=Castle Danger Brewery 17 7th Street Two Harbors MN 55616 United States;X-APPLE-RADIUS=500;X-TITLE=17 7th Street:geo:-91.6728918,47.0197477
END:VEVENT
BEGIN:VEVENT
DTSTART;VALUE=DATE:20250423
DTEND;VALUE=DATE:20250424
DTSTAMP:20260419T232645
CREATED:20221108T161721Z
LAST-MODIFIED:20260218T201821Z
UID:10007434-1745366400-1745452799@castledangerbrewery.com
SUMMARY:Double-Points for Loyalty Members
DESCRIPTION:Taproom Loyalty members will receive double-points for their purchases on Wednesdays. Beers\, a t-shirt from the merch store\, another beer\, a growler of your favorite beer to go\, all double-points on Wednesdays. Not a Taproom Loyalty member? Join on your next trip to the brewery or sign up here. 
URL:https://castledangerbrewery.com/event/double-points-for-loyalty-members/2025-04-23/
LOCATION:Castle Danger Brewery\, 17 7th Street\, Two Harbors\, MN\, 55616\, United States
CATEGORIES:Weekly Specials
ATTACH;FMTTYPE=image/png:https://castledangerbrewery.com/wp-content/uploads/4.png
GEO:47.0197477;-91.6728918
X-APPLE-STRUCTURED-LOCATION;VALUE=URI;X-ADDRESS=Castle Danger Brewery 17 7th Street Two Harbors MN 55616 United States;X-APPLE-RADIUS=500;X-TITLE=17 7th Street:geo:-91.6728918,47.0197477
END:VEVENT
BEGIN:VEVENT
DTSTART;VALUE=DATE:20250422
DTEND;VALUE=DATE:20250423
DTSTAMP:20260419T232645
CREATED:20250211T221608Z
LAST-MODIFIED:20250211T221608Z
UID:10007724-1745280000-1745366399@castledangerbrewery.com
SUMMARY:Small Batch Tuesday
DESCRIPTION:Join us at the taproom every Tuesday for $5 off any of our small batch beers. These pilot brews are our experimental batches which means NEW\, EXCITING\, FLAVORS that are exclusive to the taproom…you won’t find them anywhere else!
URL:https://castledangerbrewery.com/event/small-batch-tuesday/2025-04-22/
LOCATION:Castle Danger Brewery\, 17 7th Street\, Two Harbors\, MN\, 55616\, United States
CATEGORIES:Weekly Specials
ATTACH;FMTTYPE=image/png:https://castledangerbrewery.com/wp-content/uploads/Small-Batch-Tuesday-Logo.png
GEO:47.0197477;-91.6728918
X-APPLE-STRUCTURED-LOCATION;VALUE=URI;X-ADDRESS=Castle Danger Brewery 17 7th Street Two Harbors MN 55616 United States;X-APPLE-RADIUS=500;X-TITLE=17 7th Street:geo:-91.6728918,47.0197477
END:VEVENT
BEGIN:VEVENT
DTSTART;TZID=America/Chicago:20250420T110000
DTEND;TZID=America/Chicago:20250420T210000
DTSTAMP:20260419T232645
CREATED:20250429T160339Z
LAST-MODIFIED:20250429T160503Z
UID:10007948-1745146800-1745182800@castledangerbrewery.com
SUMMARY:Stock Up Sunday
DESCRIPTION:Buy one get one 1/2 off on all crowlers and growlers!
URL:https://castledangerbrewery.com/event/stock-up-sunday/2025-04-20/
LOCATION:Castle Danger Brewery\, 17 7th Street\, Two Harbors\, MN\, 55616\, United States
CATEGORIES:Weekly Specials
GEO:47.0197477;-91.6728918
X-APPLE-STRUCTURED-LOCATION;VALUE=URI;X-ADDRESS=Castle Danger Brewery 17 7th Street Two Harbors MN 55616 United States;X-APPLE-RADIUS=500;X-TITLE=17 7th Street:geo:-91.6728918,47.0197477
END:VEVENT
BEGIN:VEVENT
DTSTART;VALUE=DATE:20250417
DTEND;VALUE=DATE:20250418
DTSTAMP:20260419T232645
CREATED:20250211T222034Z
LAST-MODIFIED:20250429T155259Z
UID:10007735-1744848000-1744934399@castledangerbrewery.com
SUMMARY:Thursday Pizza and Pints
DESCRIPTION:Order or bring in a pizza from either Northshore Pizza Cafe or Do North Pizza and get $1 off up to four pints.
URL:https://castledangerbrewery.com/event/thursday-pizza-and-pints/2025-04-17/
LOCATION:Castle Danger Brewery\, 17 7th Street\, Two Harbors\, MN\, 55616\, United States
CATEGORIES:Weekly Specials
ATTACH;FMTTYPE=image/png:https://castledangerbrewery.com/wp-content/uploads/Pizza-and-Pints-Logo-FINAL.png
GEO:47.0197477;-91.6728918
X-APPLE-STRUCTURED-LOCATION;VALUE=URI;X-ADDRESS=Castle Danger Brewery 17 7th Street Two Harbors MN 55616 United States;X-APPLE-RADIUS=500;X-TITLE=17 7th Street:geo:-91.6728918,47.0197477
END:VEVENT
BEGIN:VEVENT
DTSTART;VALUE=DATE:20250416
DTEND;VALUE=DATE:20250417
DTSTAMP:20260419T232645
CREATED:20221108T161721Z
LAST-MODIFIED:20260218T201821Z
UID:10007433-1744761600-1744847999@castledangerbrewery.com
SUMMARY:Double-Points for Loyalty Members
DESCRIPTION:Taproom Loyalty members will receive double-points for their purchases on Wednesdays. Beers\, a t-shirt from the merch store\, another beer\, a growler of your favorite beer to go\, all double-points on Wednesdays. Not a Taproom Loyalty member? Join on your next trip to the brewery or sign up here. 
URL:https://castledangerbrewery.com/event/double-points-for-loyalty-members/2025-04-16/
LOCATION:Castle Danger Brewery\, 17 7th Street\, Two Harbors\, MN\, 55616\, United States
CATEGORIES:Weekly Specials
ATTACH;FMTTYPE=image/png:https://castledangerbrewery.com/wp-content/uploads/4.png
GEO:47.0197477;-91.6728918
X-APPLE-STRUCTURED-LOCATION;VALUE=URI;X-ADDRESS=Castle Danger Brewery 17 7th Street Two Harbors MN 55616 United States;X-APPLE-RADIUS=500;X-TITLE=17 7th Street:geo:-91.6728918,47.0197477
END:VEVENT
BEGIN:VEVENT
DTSTART;VALUE=DATE:20250415
DTEND;VALUE=DATE:20250416
DTSTAMP:20260419T232645
CREATED:20250211T221608Z
LAST-MODIFIED:20250211T221608Z
UID:10007723-1744675200-1744761599@castledangerbrewery.com
SUMMARY:Small Batch Tuesday
DESCRIPTION:Join us at the taproom every Tuesday for $5 off any of our small batch beers. These pilot brews are our experimental batches which means NEW\, EXCITING\, FLAVORS that are exclusive to the taproom…you won’t find them anywhere else!
URL:https://castledangerbrewery.com/event/small-batch-tuesday/2025-04-15/
LOCATION:Castle Danger Brewery\, 17 7th Street\, Two Harbors\, MN\, 55616\, United States
CATEGORIES:Weekly Specials
ATTACH;FMTTYPE=image/png:https://castledangerbrewery.com/wp-content/uploads/Small-Batch-Tuesday-Logo.png
GEO:47.0197477;-91.6728918
X-APPLE-STRUCTURED-LOCATION;VALUE=URI;X-ADDRESS=Castle Danger Brewery 17 7th Street Two Harbors MN 55616 United States;X-APPLE-RADIUS=500;X-TITLE=17 7th Street:geo:-91.6728918,47.0197477
END:VEVENT
BEGIN:VEVENT
DTSTART;TZID=America/Chicago:20250413T110000
DTEND;TZID=America/Chicago:20250413T210000
DTSTAMP:20260419T232645
CREATED:20250429T160339Z
LAST-MODIFIED:20250429T160503Z
UID:10007947-1744542000-1744578000@castledangerbrewery.com
SUMMARY:Stock Up Sunday
DESCRIPTION:Buy one get one 1/2 off on all crowlers and growlers!
URL:https://castledangerbrewery.com/event/stock-up-sunday/2025-04-13/
LOCATION:Castle Danger Brewery\, 17 7th Street\, Two Harbors\, MN\, 55616\, United States
CATEGORIES:Weekly Specials
GEO:47.0197477;-91.6728918
X-APPLE-STRUCTURED-LOCATION;VALUE=URI;X-ADDRESS=Castle Danger Brewery 17 7th Street Two Harbors MN 55616 United States;X-APPLE-RADIUS=500;X-TITLE=17 7th Street:geo:-91.6728918,47.0197477
END:VEVENT
BEGIN:VEVENT
DTSTART;VALUE=DATE:20250410
DTEND;VALUE=DATE:20250411
DTSTAMP:20260419T232645
CREATED:20250211T222034Z
LAST-MODIFIED:20250429T155259Z
UID:10007734-1744243200-1744329599@castledangerbrewery.com
SUMMARY:Thursday Pizza and Pints
DESCRIPTION:Order or bring in a pizza from either Northshore Pizza Cafe or Do North Pizza and get $1 off up to four pints.
URL:https://castledangerbrewery.com/event/thursday-pizza-and-pints/2025-04-10/
LOCATION:Castle Danger Brewery\, 17 7th Street\, Two Harbors\, MN\, 55616\, United States
CATEGORIES:Weekly Specials
ATTACH;FMTTYPE=image/png:https://castledangerbrewery.com/wp-content/uploads/Pizza-and-Pints-Logo-FINAL.png
GEO:47.0197477;-91.6728918
X-APPLE-STRUCTURED-LOCATION;VALUE=URI;X-ADDRESS=Castle Danger Brewery 17 7th Street Two Harbors MN 55616 United States;X-APPLE-RADIUS=500;X-TITLE=17 7th Street:geo:-91.6728918,47.0197477
END:VEVENT
BEGIN:VEVENT
DTSTART;VALUE=DATE:20250409
DTEND;VALUE=DATE:20250410
DTSTAMP:20260419T232645
CREATED:20221108T161721Z
LAST-MODIFIED:20260218T201821Z
UID:10007432-1744156800-1744243199@castledangerbrewery.com
SUMMARY:Double-Points for Loyalty Members
DESCRIPTION:Taproom Loyalty members will receive double-points for their purchases on Wednesdays. Beers\, a t-shirt from the merch store\, another beer\, a growler of your favorite beer to go\, all double-points on Wednesdays. Not a Taproom Loyalty member? Join on your next trip to the brewery or sign up here. 
URL:https://castledangerbrewery.com/event/double-points-for-loyalty-members/2025-04-09/
LOCATION:Castle Danger Brewery\, 17 7th Street\, Two Harbors\, MN\, 55616\, United States
CATEGORIES:Weekly Specials
ATTACH;FMTTYPE=image/png:https://castledangerbrewery.com/wp-content/uploads/4.png
GEO:47.0197477;-91.6728918
X-APPLE-STRUCTURED-LOCATION;VALUE=URI;X-ADDRESS=Castle Danger Brewery 17 7th Street Two Harbors MN 55616 United States;X-APPLE-RADIUS=500;X-TITLE=17 7th Street:geo:-91.6728918,47.0197477
END:VEVENT
BEGIN:VEVENT
DTSTART;VALUE=DATE:20250408
DTEND;VALUE=DATE:20250409
DTSTAMP:20260419T232645
CREATED:20250211T221608Z
LAST-MODIFIED:20250211T221608Z
UID:10007722-1744070400-1744156799@castledangerbrewery.com
SUMMARY:Small Batch Tuesday
DESCRIPTION:Join us at the taproom every Tuesday for $5 off any of our small batch beers. These pilot brews are our experimental batches which means NEW\, EXCITING\, FLAVORS that are exclusive to the taproom…you won’t find them anywhere else!
URL:https://castledangerbrewery.com/event/small-batch-tuesday/2025-04-08/
LOCATION:Castle Danger Brewery\, 17 7th Street\, Two Harbors\, MN\, 55616\, United States
CATEGORIES:Weekly Specials
ATTACH;FMTTYPE=image/png:https://castledangerbrewery.com/wp-content/uploads/Small-Batch-Tuesday-Logo.png
GEO:47.0197477;-91.6728918
X-APPLE-STRUCTURED-LOCATION;VALUE=URI;X-ADDRESS=Castle Danger Brewery 17 7th Street Two Harbors MN 55616 United States;X-APPLE-RADIUS=500;X-TITLE=17 7th Street:geo:-91.6728918,47.0197477
END:VEVENT
BEGIN:VEVENT
DTSTART;TZID=America/Chicago:20250406T110000
DTEND;TZID=America/Chicago:20250406T210000
DTSTAMP:20260419T232645
CREATED:20250429T160339Z
LAST-MODIFIED:20250429T160503Z
UID:10007946-1743937200-1743973200@castledangerbrewery.com
SUMMARY:Stock Up Sunday
DESCRIPTION:Buy one get one 1/2 off on all crowlers and growlers!
URL:https://castledangerbrewery.com/event/stock-up-sunday/2025-04-06/
LOCATION:Castle Danger Brewery\, 17 7th Street\, Two Harbors\, MN\, 55616\, United States
CATEGORIES:Weekly Specials
GEO:47.0197477;-91.6728918
X-APPLE-STRUCTURED-LOCATION;VALUE=URI;X-ADDRESS=Castle Danger Brewery 17 7th Street Two Harbors MN 55616 United States;X-APPLE-RADIUS=500;X-TITLE=17 7th Street:geo:-91.6728918,47.0197477
END:VEVENT
BEGIN:VEVENT
DTSTART;VALUE=DATE:20250403
DTEND;VALUE=DATE:20250404
DTSTAMP:20260419T232645
CREATED:20250211T222034Z
LAST-MODIFIED:20250429T155259Z
UID:10007733-1743638400-1743724799@castledangerbrewery.com
SUMMARY:Thursday Pizza and Pints
DESCRIPTION:Order or bring in a pizza from either Northshore Pizza Cafe or Do North Pizza and get $1 off up to four pints.
URL:https://castledangerbrewery.com/event/thursday-pizza-and-pints/2025-04-03/
LOCATION:Castle Danger Brewery\, 17 7th Street\, Two Harbors\, MN\, 55616\, United States
CATEGORIES:Weekly Specials
ATTACH;FMTTYPE=image/png:https://castledangerbrewery.com/wp-content/uploads/Pizza-and-Pints-Logo-FINAL.png
GEO:47.0197477;-91.6728918
X-APPLE-STRUCTURED-LOCATION;VALUE=URI;X-ADDRESS=Castle Danger Brewery 17 7th Street Two Harbors MN 55616 United States;X-APPLE-RADIUS=500;X-TITLE=17 7th Street:geo:-91.6728918,47.0197477
END:VEVENT
BEGIN:VEVENT
DTSTART;VALUE=DATE:20250402
DTEND;VALUE=DATE:20250403
DTSTAMP:20260419T232645
CREATED:20221108T161721Z
LAST-MODIFIED:20260218T201821Z
UID:10007431-1743552000-1743638399@castledangerbrewery.com
SUMMARY:Double-Points for Loyalty Members
DESCRIPTION:Taproom Loyalty members will receive double-points for their purchases on Wednesdays. Beers\, a t-shirt from the merch store\, another beer\, a growler of your favorite beer to go\, all double-points on Wednesdays. Not a Taproom Loyalty member? Join on your next trip to the brewery or sign up here. 
URL:https://castledangerbrewery.com/event/double-points-for-loyalty-members/2025-04-02/
LOCATION:Castle Danger Brewery\, 17 7th Street\, Two Harbors\, MN\, 55616\, United States
CATEGORIES:Weekly Specials
ATTACH;FMTTYPE=image/png:https://castledangerbrewery.com/wp-content/uploads/4.png
GEO:47.0197477;-91.6728918
X-APPLE-STRUCTURED-LOCATION;VALUE=URI;X-ADDRESS=Castle Danger Brewery 17 7th Street Two Harbors MN 55616 United States;X-APPLE-RADIUS=500;X-TITLE=17 7th Street:geo:-91.6728918,47.0197477
END:VEVENT
BEGIN:VEVENT
DTSTART;VALUE=DATE:20250401
DTEND;VALUE=DATE:20250402
DTSTAMP:20260419T232645
CREATED:20250211T221608Z
LAST-MODIFIED:20250211T221608Z
UID:10007721-1743465600-1743551999@castledangerbrewery.com
SUMMARY:Small Batch Tuesday
DESCRIPTION:Join us at the taproom every Tuesday for $5 off any of our small batch beers. These pilot brews are our experimental batches which means NEW\, EXCITING\, FLAVORS that are exclusive to the taproom…you won’t find them anywhere else!
URL:https://castledangerbrewery.com/event/small-batch-tuesday/2025-04-01/
LOCATION:Castle Danger Brewery\, 17 7th Street\, Two Harbors\, MN\, 55616\, United States
CATEGORIES:Weekly Specials
ATTACH;FMTTYPE=image/png:https://castledangerbrewery.com/wp-content/uploads/Small-Batch-Tuesday-Logo.png
GEO:47.0197477;-91.6728918
X-APPLE-STRUCTURED-LOCATION;VALUE=URI;X-ADDRESS=Castle Danger Brewery 17 7th Street Two Harbors MN 55616 United States;X-APPLE-RADIUS=500;X-TITLE=17 7th Street:geo:-91.6728918,47.0197477
END:VEVENT
BEGIN:VEVENT
DTSTART;TZID=America/Chicago:20250330T110000
DTEND;TZID=America/Chicago:20250330T210000
DTSTAMP:20260419T232645
CREATED:20250429T160339Z
LAST-MODIFIED:20250429T160503Z
UID:10007945-1743332400-1743368400@castledangerbrewery.com
SUMMARY:Stock Up Sunday
DESCRIPTION:Buy one get one 1/2 off on all crowlers and growlers!
URL:https://castledangerbrewery.com/event/stock-up-sunday/2025-03-30/
LOCATION:Castle Danger Brewery\, 17 7th Street\, Two Harbors\, MN\, 55616\, United States
CATEGORIES:Weekly Specials
GEO:47.0197477;-91.6728918
X-APPLE-STRUCTURED-LOCATION;VALUE=URI;X-ADDRESS=Castle Danger Brewery 17 7th Street Two Harbors MN 55616 United States;X-APPLE-RADIUS=500;X-TITLE=17 7th Street:geo:-91.6728918,47.0197477
END:VEVENT
BEGIN:VEVENT
DTSTART;VALUE=DATE:20250327
DTEND;VALUE=DATE:20250328
DTSTAMP:20260419T232645
CREATED:20250211T222034Z
LAST-MODIFIED:20250429T155259Z
UID:10007732-1743033600-1743119999@castledangerbrewery.com
SUMMARY:Thursday Pizza and Pints
DESCRIPTION:Order or bring in a pizza from either Northshore Pizza Cafe or Do North Pizza and get $1 off up to four pints.
URL:https://castledangerbrewery.com/event/thursday-pizza-and-pints/2025-03-27/
LOCATION:Castle Danger Brewery\, 17 7th Street\, Two Harbors\, MN\, 55616\, United States
CATEGORIES:Weekly Specials
ATTACH;FMTTYPE=image/png:https://castledangerbrewery.com/wp-content/uploads/Pizza-and-Pints-Logo-FINAL.png
GEO:47.0197477;-91.6728918
X-APPLE-STRUCTURED-LOCATION;VALUE=URI;X-ADDRESS=Castle Danger Brewery 17 7th Street Two Harbors MN 55616 United States;X-APPLE-RADIUS=500;X-TITLE=17 7th Street:geo:-91.6728918,47.0197477
END:VEVENT
BEGIN:VEVENT
DTSTART;VALUE=DATE:20250326
DTEND;VALUE=DATE:20250327
DTSTAMP:20260419T232646
CREATED:20221108T161721Z
LAST-MODIFIED:20260218T201821Z
UID:10007430-1742947200-1743033599@castledangerbrewery.com
SUMMARY:Double-Points for Loyalty Members
DESCRIPTION:Taproom Loyalty members will receive double-points for their purchases on Wednesdays. Beers\, a t-shirt from the merch store\, another beer\, a growler of your favorite beer to go\, all double-points on Wednesdays. Not a Taproom Loyalty member? Join on your next trip to the brewery or sign up here. 
URL:https://castledangerbrewery.com/event/double-points-for-loyalty-members/2025-03-26/
LOCATION:Castle Danger Brewery\, 17 7th Street\, Two Harbors\, MN\, 55616\, United States
CATEGORIES:Weekly Specials
ATTACH;FMTTYPE=image/png:https://castledangerbrewery.com/wp-content/uploads/4.png
GEO:47.0197477;-91.6728918
X-APPLE-STRUCTURED-LOCATION;VALUE=URI;X-ADDRESS=Castle Danger Brewery 17 7th Street Two Harbors MN 55616 United States;X-APPLE-RADIUS=500;X-TITLE=17 7th Street:geo:-91.6728918,47.0197477
END:VEVENT
BEGIN:VEVENT
DTSTART;VALUE=DATE:20250325
DTEND;VALUE=DATE:20250326
DTSTAMP:20260419T232646
CREATED:20250211T221608Z
LAST-MODIFIED:20250211T221608Z
UID:10007720-1742860800-1742947199@castledangerbrewery.com
SUMMARY:Small Batch Tuesday
DESCRIPTION:Join us at the taproom every Tuesday for $5 off any of our small batch beers. These pilot brews are our experimental batches which means NEW\, EXCITING\, FLAVORS that are exclusive to the taproom…you won’t find them anywhere else!
URL:https://castledangerbrewery.com/event/small-batch-tuesday/2025-03-25/
LOCATION:Castle Danger Brewery\, 17 7th Street\, Two Harbors\, MN\, 55616\, United States
CATEGORIES:Weekly Specials
ATTACH;FMTTYPE=image/png:https://castledangerbrewery.com/wp-content/uploads/Small-Batch-Tuesday-Logo.png
GEO:47.0197477;-91.6728918
X-APPLE-STRUCTURED-LOCATION;VALUE=URI;X-ADDRESS=Castle Danger Brewery 17 7th Street Two Harbors MN 55616 United States;X-APPLE-RADIUS=500;X-TITLE=17 7th Street:geo:-91.6728918,47.0197477
END:VEVENT
BEGIN:VEVENT
DTSTART;TZID=America/Chicago:20250323T110000
DTEND;TZID=America/Chicago:20250323T210000
DTSTAMP:20260419T232646
CREATED:20250429T160339Z
LAST-MODIFIED:20250429T160503Z
UID:10007944-1742727600-1742763600@castledangerbrewery.com
SUMMARY:Stock Up Sunday
DESCRIPTION:Buy one get one 1/2 off on all crowlers and growlers!
URL:https://castledangerbrewery.com/event/stock-up-sunday/2025-03-23/
LOCATION:Castle Danger Brewery\, 17 7th Street\, Two Harbors\, MN\, 55616\, United States
CATEGORIES:Weekly Specials
GEO:47.0197477;-91.6728918
X-APPLE-STRUCTURED-LOCATION;VALUE=URI;X-ADDRESS=Castle Danger Brewery 17 7th Street Two Harbors MN 55616 United States;X-APPLE-RADIUS=500;X-TITLE=17 7th Street:geo:-91.6728918,47.0197477
END:VEVENT
BEGIN:VEVENT
DTSTART;VALUE=DATE:20250320
DTEND;VALUE=DATE:20250321
DTSTAMP:20260419T232646
CREATED:20250211T222034Z
LAST-MODIFIED:20250429T155259Z
UID:10007731-1742428800-1742515199@castledangerbrewery.com
SUMMARY:Thursday Pizza and Pints
DESCRIPTION:Order or bring in a pizza from either Northshore Pizza Cafe or Do North Pizza and get $1 off up to four pints.
URL:https://castledangerbrewery.com/event/thursday-pizza-and-pints/2025-03-20/
LOCATION:Castle Danger Brewery\, 17 7th Street\, Two Harbors\, MN\, 55616\, United States
CATEGORIES:Weekly Specials
ATTACH;FMTTYPE=image/png:https://castledangerbrewery.com/wp-content/uploads/Pizza-and-Pints-Logo-FINAL.png
GEO:47.0197477;-91.6728918
X-APPLE-STRUCTURED-LOCATION;VALUE=URI;X-ADDRESS=Castle Danger Brewery 17 7th Street Two Harbors MN 55616 United States;X-APPLE-RADIUS=500;X-TITLE=17 7th Street:geo:-91.6728918,47.0197477
END:VEVENT
BEGIN:VEVENT
DTSTART;VALUE=DATE:20250319
DTEND;VALUE=DATE:20250320
DTSTAMP:20260419T232646
CREATED:20221108T161721Z
LAST-MODIFIED:20260218T201821Z
UID:10007429-1742342400-1742428799@castledangerbrewery.com
SUMMARY:Double-Points for Loyalty Members
DESCRIPTION:Taproom Loyalty members will receive double-points for their purchases on Wednesdays. Beers\, a t-shirt from the merch store\, another beer\, a growler of your favorite beer to go\, all double-points on Wednesdays. Not a Taproom Loyalty member? Join on your next trip to the brewery or sign up here. 
URL:https://castledangerbrewery.com/event/double-points-for-loyalty-members/2025-03-19/
LOCATION:Castle Danger Brewery\, 17 7th Street\, Two Harbors\, MN\, 55616\, United States
CATEGORIES:Weekly Specials
ATTACH;FMTTYPE=image/png:https://castledangerbrewery.com/wp-content/uploads/4.png
GEO:47.0197477;-91.6728918
X-APPLE-STRUCTURED-LOCATION;VALUE=URI;X-ADDRESS=Castle Danger Brewery 17 7th Street Two Harbors MN 55616 United States;X-APPLE-RADIUS=500;X-TITLE=17 7th Street:geo:-91.6728918,47.0197477
END:VEVENT
END:VCALENDAR