BEGIN:VCALENDAR
VERSION:2.0
PRODID:-//Castle Danger Brewing - ECPv6.15.20//NONSGML v1.0//EN
CALSCALE:GREGORIAN
METHOD:PUBLISH
X-ORIGINAL-URL:https://castledangerbrewery.com
X-WR-CALDESC:Events for Castle Danger Brewing
REFRESH-INTERVAL;VALUE=DURATION:PT1H
X-Robots-Tag:noindex
X-PUBLISHED-TTL:PT1H
BEGIN:VTIMEZONE
TZID:America/Chicago
BEGIN:DAYLIGHT
TZOFFSETFROM:-0600
TZOFFSETTO:-0500
TZNAME:CDT
DTSTART:20230312T080000
END:DAYLIGHT
BEGIN:STANDARD
TZOFFSETFROM:-0500
TZOFFSETTO:-0600
TZNAME:CST
DTSTART:20231105T070000
END:STANDARD
BEGIN:DAYLIGHT
TZOFFSETFROM:-0600
TZOFFSETTO:-0500
TZNAME:CDT
DTSTART:20240310T080000
END:DAYLIGHT
BEGIN:STANDARD
TZOFFSETFROM:-0500
TZOFFSETTO:-0600
TZNAME:CST
DTSTART:20241103T070000
END:STANDARD
BEGIN:DAYLIGHT
TZOFFSETFROM:-0600
TZOFFSETTO:-0500
TZNAME:CDT
DTSTART:20250309T080000
END:DAYLIGHT
BEGIN:STANDARD
TZOFFSETFROM:-0500
TZOFFSETTO:-0600
TZNAME:CST
DTSTART:20251102T070000
END:STANDARD
BEGIN:DAYLIGHT
TZOFFSETFROM:-0600
TZOFFSETTO:-0500
TZNAME:CDT
DTSTART:20260308T080000
END:DAYLIGHT
BEGIN:STANDARD
TZOFFSETFROM:-0500
TZOFFSETTO:-0600
TZNAME:CST
DTSTART:20261101T070000
END:STANDARD
END:VTIMEZONE
BEGIN:VEVENT
DTSTART;TZID=America/Chicago:20250126T110000
DTEND;TZID=America/Chicago:20250126T210000
DTSTAMP:20260424T095202
CREATED:20250429T160339Z
LAST-MODIFIED:20250429T160503Z
UID:10007936-1737889200-1737925200@castledangerbrewery.com
SUMMARY:Stock Up Sunday
DESCRIPTION:Buy one get one 1/2 off on all crowlers and growlers!
URL:https://castledangerbrewery.com/event/stock-up-sunday/2025-01-26/
LOCATION:Castle Danger Brewery\, 17 7th Street\, Two Harbors\, MN\, 55616\, United States
CATEGORIES:Weekly Specials
GEO:47.0197477;-91.6728918
X-APPLE-STRUCTURED-LOCATION;VALUE=URI;X-ADDRESS=Castle Danger Brewery 17 7th Street Two Harbors MN 55616 United States;X-APPLE-RADIUS=500;X-TITLE=17 7th Street:geo:-91.6728918,47.0197477
END:VEVENT
BEGIN:VEVENT
DTSTART;VALUE=DATE:20250122
DTEND;VALUE=DATE:20250123
DTSTAMP:20260424T095202
CREATED:20221108T161721Z
LAST-MODIFIED:20260218T201821Z
UID:10007421-1737504000-1737590399@castledangerbrewery.com
SUMMARY:Double-Points for Loyalty Members
DESCRIPTION:Taproom Loyalty members will receive double-points for their purchases on Wednesdays. Beers\, a t-shirt from the merch store\, another beer\, a growler of your favorite beer to go\, all double-points on Wednesdays. Not a Taproom Loyalty member? Join on your next trip to the brewery or sign up here. 
URL:https://castledangerbrewery.com/event/double-points-for-loyalty-members/2025-01-22/
LOCATION:Castle Danger Brewery\, 17 7th Street\, Two Harbors\, MN\, 55616\, United States
CATEGORIES:Weekly Specials
ATTACH;FMTTYPE=image/png:https://castledangerbrewery.com/wp-content/uploads/4.png
GEO:47.0197477;-91.6728918
X-APPLE-STRUCTURED-LOCATION;VALUE=URI;X-ADDRESS=Castle Danger Brewery 17 7th Street Two Harbors MN 55616 United States;X-APPLE-RADIUS=500;X-TITLE=17 7th Street:geo:-91.6728918,47.0197477
END:VEVENT
BEGIN:VEVENT
DTSTART;TZID=America/Chicago:20250119T110000
DTEND;TZID=America/Chicago:20250119T210000
DTSTAMP:20260424T095202
CREATED:20250429T160339Z
LAST-MODIFIED:20250429T160503Z
UID:10007935-1737284400-1737320400@castledangerbrewery.com
SUMMARY:Stock Up Sunday
DESCRIPTION:Buy one get one 1/2 off on all crowlers and growlers!
URL:https://castledangerbrewery.com/event/stock-up-sunday/2025-01-19/
LOCATION:Castle Danger Brewery\, 17 7th Street\, Two Harbors\, MN\, 55616\, United States
CATEGORIES:Weekly Specials
GEO:47.0197477;-91.6728918
X-APPLE-STRUCTURED-LOCATION;VALUE=URI;X-ADDRESS=Castle Danger Brewery 17 7th Street Two Harbors MN 55616 United States;X-APPLE-RADIUS=500;X-TITLE=17 7th Street:geo:-91.6728918,47.0197477
END:VEVENT
BEGIN:VEVENT
DTSTART;VALUE=DATE:20250115
DTEND;VALUE=DATE:20250116
DTSTAMP:20260424T095202
CREATED:20221108T161721Z
LAST-MODIFIED:20260218T201821Z
UID:10007420-1736899200-1736985599@castledangerbrewery.com
SUMMARY:Double-Points for Loyalty Members
DESCRIPTION:Taproom Loyalty members will receive double-points for their purchases on Wednesdays. Beers\, a t-shirt from the merch store\, another beer\, a growler of your favorite beer to go\, all double-points on Wednesdays. Not a Taproom Loyalty member? Join on your next trip to the brewery or sign up here. 
URL:https://castledangerbrewery.com/event/double-points-for-loyalty-members/2025-01-15/
LOCATION:Castle Danger Brewery\, 17 7th Street\, Two Harbors\, MN\, 55616\, United States
CATEGORIES:Weekly Specials
ATTACH;FMTTYPE=image/png:https://castledangerbrewery.com/wp-content/uploads/4.png
GEO:47.0197477;-91.6728918
X-APPLE-STRUCTURED-LOCATION;VALUE=URI;X-ADDRESS=Castle Danger Brewery 17 7th Street Two Harbors MN 55616 United States;X-APPLE-RADIUS=500;X-TITLE=17 7th Street:geo:-91.6728918,47.0197477
END:VEVENT
BEGIN:VEVENT
DTSTART;TZID=America/Chicago:20250112T110000
DTEND;TZID=America/Chicago:20250112T210000
DTSTAMP:20260424T095202
CREATED:20250429T160339Z
LAST-MODIFIED:20250429T160503Z
UID:10007934-1736679600-1736715600@castledangerbrewery.com
SUMMARY:Stock Up Sunday
DESCRIPTION:Buy one get one 1/2 off on all crowlers and growlers!
URL:https://castledangerbrewery.com/event/stock-up-sunday/2025-01-12/
LOCATION:Castle Danger Brewery\, 17 7th Street\, Two Harbors\, MN\, 55616\, United States
CATEGORIES:Weekly Specials
GEO:47.0197477;-91.6728918
X-APPLE-STRUCTURED-LOCATION;VALUE=URI;X-ADDRESS=Castle Danger Brewery 17 7th Street Two Harbors MN 55616 United States;X-APPLE-RADIUS=500;X-TITLE=17 7th Street:geo:-91.6728918,47.0197477
END:VEVENT
BEGIN:VEVENT
DTSTART;VALUE=DATE:20250108
DTEND;VALUE=DATE:20250109
DTSTAMP:20260424T095202
CREATED:20221108T161721Z
LAST-MODIFIED:20260218T201821Z
UID:10007419-1736294400-1736380799@castledangerbrewery.com
SUMMARY:Double-Points for Loyalty Members
DESCRIPTION:Taproom Loyalty members will receive double-points for their purchases on Wednesdays. Beers\, a t-shirt from the merch store\, another beer\, a growler of your favorite beer to go\, all double-points on Wednesdays. Not a Taproom Loyalty member? Join on your next trip to the brewery or sign up here. 
URL:https://castledangerbrewery.com/event/double-points-for-loyalty-members/2025-01-08/
LOCATION:Castle Danger Brewery\, 17 7th Street\, Two Harbors\, MN\, 55616\, United States
CATEGORIES:Weekly Specials
ATTACH;FMTTYPE=image/png:https://castledangerbrewery.com/wp-content/uploads/4.png
GEO:47.0197477;-91.6728918
X-APPLE-STRUCTURED-LOCATION;VALUE=URI;X-ADDRESS=Castle Danger Brewery 17 7th Street Two Harbors MN 55616 United States;X-APPLE-RADIUS=500;X-TITLE=17 7th Street:geo:-91.6728918,47.0197477
END:VEVENT
BEGIN:VEVENT
DTSTART;TZID=America/Chicago:20250105T110000
DTEND;TZID=America/Chicago:20250105T210000
DTSTAMP:20260424T095202
CREATED:20250429T160339Z
LAST-MODIFIED:20250429T160503Z
UID:10007933-1736074800-1736110800@castledangerbrewery.com
SUMMARY:Stock Up Sunday
DESCRIPTION:Buy one get one 1/2 off on all crowlers and growlers!
URL:https://castledangerbrewery.com/event/stock-up-sunday/2025-01-05/
LOCATION:Castle Danger Brewery\, 17 7th Street\, Two Harbors\, MN\, 55616\, United States
CATEGORIES:Weekly Specials
GEO:47.0197477;-91.6728918
X-APPLE-STRUCTURED-LOCATION;VALUE=URI;X-ADDRESS=Castle Danger Brewery 17 7th Street Two Harbors MN 55616 United States;X-APPLE-RADIUS=500;X-TITLE=17 7th Street:geo:-91.6728918,47.0197477
END:VEVENT
BEGIN:VEVENT
DTSTART;VALUE=DATE:20250101
DTEND;VALUE=DATE:20250102
DTSTAMP:20260424T095202
CREATED:20221108T161721Z
LAST-MODIFIED:20260218T201821Z
UID:10007418-1735689600-1735775999@castledangerbrewery.com
SUMMARY:Double-Points for Loyalty Members
DESCRIPTION:Taproom Loyalty members will receive double-points for their purchases on Wednesdays. Beers\, a t-shirt from the merch store\, another beer\, a growler of your favorite beer to go\, all double-points on Wednesdays. Not a Taproom Loyalty member? Join on your next trip to the brewery or sign up here. 
URL:https://castledangerbrewery.com/event/double-points-for-loyalty-members/2025-01-01/
LOCATION:Castle Danger Brewery\, 17 7th Street\, Two Harbors\, MN\, 55616\, United States
CATEGORIES:Weekly Specials
ATTACH;FMTTYPE=image/png:https://castledangerbrewery.com/wp-content/uploads/4.png
GEO:47.0197477;-91.6728918
X-APPLE-STRUCTURED-LOCATION;VALUE=URI;X-ADDRESS=Castle Danger Brewery 17 7th Street Two Harbors MN 55616 United States;X-APPLE-RADIUS=500;X-TITLE=17 7th Street:geo:-91.6728918,47.0197477
END:VEVENT
BEGIN:VEVENT
DTSTART;TZID=America/Chicago:20241229T110000
DTEND;TZID=America/Chicago:20241229T210000
DTSTAMP:20260424T095202
CREATED:20250429T160339Z
LAST-MODIFIED:20250429T160503Z
UID:10007932-1735470000-1735506000@castledangerbrewery.com
SUMMARY:Stock Up Sunday
DESCRIPTION:Buy one get one 1/2 off on all crowlers and growlers!
URL:https://castledangerbrewery.com/event/stock-up-sunday/2024-12-29/
LOCATION:Castle Danger Brewery\, 17 7th Street\, Two Harbors\, MN\, 55616\, United States
CATEGORIES:Weekly Specials
GEO:47.0197477;-91.6728918
X-APPLE-STRUCTURED-LOCATION;VALUE=URI;X-ADDRESS=Castle Danger Brewery 17 7th Street Two Harbors MN 55616 United States;X-APPLE-RADIUS=500;X-TITLE=17 7th Street:geo:-91.6728918,47.0197477
END:VEVENT
BEGIN:VEVENT
DTSTART;TZID=America/Chicago:20241222T110000
DTEND;TZID=America/Chicago:20241222T210000
DTSTAMP:20260424T095202
CREATED:20250429T160339Z
LAST-MODIFIED:20250429T160503Z
UID:10007931-1734865200-1734901200@castledangerbrewery.com
SUMMARY:Stock Up Sunday
DESCRIPTION:Buy one get one 1/2 off on all crowlers and growlers!
URL:https://castledangerbrewery.com/event/stock-up-sunday/2024-12-22/
LOCATION:Castle Danger Brewery\, 17 7th Street\, Two Harbors\, MN\, 55616\, United States
CATEGORIES:Weekly Specials
GEO:47.0197477;-91.6728918
X-APPLE-STRUCTURED-LOCATION;VALUE=URI;X-ADDRESS=Castle Danger Brewery 17 7th Street Two Harbors MN 55616 United States;X-APPLE-RADIUS=500;X-TITLE=17 7th Street:geo:-91.6728918,47.0197477
END:VEVENT
BEGIN:VEVENT
DTSTART;VALUE=DATE:20241218
DTEND;VALUE=DATE:20241219
DTSTAMP:20260424T095202
CREATED:20221108T161721Z
LAST-MODIFIED:20260218T201821Z
UID:10005503-1734480000-1734566399@castledangerbrewery.com
SUMMARY:Double-Points for Loyalty Members
DESCRIPTION:Taproom Loyalty members will receive double-points for their purchases on Wednesdays. Beers\, a t-shirt from the merch store\, another beer\, a growler of your favorite beer to go\, all double-points on Wednesdays. Not a Taproom Loyalty member? Join on your next trip to the brewery or sign up here. 
URL:https://castledangerbrewery.com/event/double-points-for-loyalty-members/2024-12-18/
LOCATION:Castle Danger Brewery\, 17 7th Street\, Two Harbors\, MN\, 55616\, United States
CATEGORIES:Weekly Specials
ATTACH;FMTTYPE=image/png:https://castledangerbrewery.com/wp-content/uploads/4.png
GEO:47.0197477;-91.6728918
X-APPLE-STRUCTURED-LOCATION;VALUE=URI;X-ADDRESS=Castle Danger Brewery 17 7th Street Two Harbors MN 55616 United States;X-APPLE-RADIUS=500;X-TITLE=17 7th Street:geo:-91.6728918,47.0197477
END:VEVENT
BEGIN:VEVENT
DTSTART;TZID=America/Chicago:20241215T110000
DTEND;TZID=America/Chicago:20241215T210000
DTSTAMP:20260424T095202
CREATED:20250429T160339Z
LAST-MODIFIED:20250429T160503Z
UID:10007930-1734260400-1734296400@castledangerbrewery.com
SUMMARY:Stock Up Sunday
DESCRIPTION:Buy one get one 1/2 off on all crowlers and growlers!
URL:https://castledangerbrewery.com/event/stock-up-sunday/2024-12-15/
LOCATION:Castle Danger Brewery\, 17 7th Street\, Two Harbors\, MN\, 55616\, United States
CATEGORIES:Weekly Specials
GEO:47.0197477;-91.6728918
X-APPLE-STRUCTURED-LOCATION;VALUE=URI;X-ADDRESS=Castle Danger Brewery 17 7th Street Two Harbors MN 55616 United States;X-APPLE-RADIUS=500;X-TITLE=17 7th Street:geo:-91.6728918,47.0197477
END:VEVENT
BEGIN:VEVENT
DTSTART;VALUE=DATE:20241211
DTEND;VALUE=DATE:20241212
DTSTAMP:20260424T095202
CREATED:20221108T161721Z
LAST-MODIFIED:20260218T201821Z
UID:10005502-1733875200-1733961599@castledangerbrewery.com
SUMMARY:Double-Points for Loyalty Members
DESCRIPTION:Taproom Loyalty members will receive double-points for their purchases on Wednesdays. Beers\, a t-shirt from the merch store\, another beer\, a growler of your favorite beer to go\, all double-points on Wednesdays. Not a Taproom Loyalty member? Join on your next trip to the brewery or sign up here. 
URL:https://castledangerbrewery.com/event/double-points-for-loyalty-members/2024-12-11/
LOCATION:Castle Danger Brewery\, 17 7th Street\, Two Harbors\, MN\, 55616\, United States
CATEGORIES:Weekly Specials
ATTACH;FMTTYPE=image/png:https://castledangerbrewery.com/wp-content/uploads/4.png
GEO:47.0197477;-91.6728918
X-APPLE-STRUCTURED-LOCATION;VALUE=URI;X-ADDRESS=Castle Danger Brewery 17 7th Street Two Harbors MN 55616 United States;X-APPLE-RADIUS=500;X-TITLE=17 7th Street:geo:-91.6728918,47.0197477
END:VEVENT
BEGIN:VEVENT
DTSTART;TZID=America/Chicago:20241208T110000
DTEND;TZID=America/Chicago:20241208T210000
DTSTAMP:20260424T095202
CREATED:20250429T160339Z
LAST-MODIFIED:20250429T160503Z
UID:10007929-1733655600-1733691600@castledangerbrewery.com
SUMMARY:Stock Up Sunday
DESCRIPTION:Buy one get one 1/2 off on all crowlers and growlers!
URL:https://castledangerbrewery.com/event/stock-up-sunday/2024-12-08/
LOCATION:Castle Danger Brewery\, 17 7th Street\, Two Harbors\, MN\, 55616\, United States
CATEGORIES:Weekly Specials
GEO:47.0197477;-91.6728918
X-APPLE-STRUCTURED-LOCATION;VALUE=URI;X-ADDRESS=Castle Danger Brewery 17 7th Street Two Harbors MN 55616 United States;X-APPLE-RADIUS=500;X-TITLE=17 7th Street:geo:-91.6728918,47.0197477
END:VEVENT
BEGIN:VEVENT
DTSTART;VALUE=DATE:20241204
DTEND;VALUE=DATE:20241205
DTSTAMP:20260424T095202
CREATED:20221108T161721Z
LAST-MODIFIED:20260218T201821Z
UID:10005501-1733270400-1733356799@castledangerbrewery.com
SUMMARY:Double-Points for Loyalty Members
DESCRIPTION:Taproom Loyalty members will receive double-points for their purchases on Wednesdays. Beers\, a t-shirt from the merch store\, another beer\, a growler of your favorite beer to go\, all double-points on Wednesdays. Not a Taproom Loyalty member? Join on your next trip to the brewery or sign up here. 
URL:https://castledangerbrewery.com/event/double-points-for-loyalty-members/2024-12-04/
LOCATION:Castle Danger Brewery\, 17 7th Street\, Two Harbors\, MN\, 55616\, United States
CATEGORIES:Weekly Specials
ATTACH;FMTTYPE=image/png:https://castledangerbrewery.com/wp-content/uploads/4.png
GEO:47.0197477;-91.6728918
X-APPLE-STRUCTURED-LOCATION;VALUE=URI;X-ADDRESS=Castle Danger Brewery 17 7th Street Two Harbors MN 55616 United States;X-APPLE-RADIUS=500;X-TITLE=17 7th Street:geo:-91.6728918,47.0197477
END:VEVENT
BEGIN:VEVENT
DTSTART;TZID=America/Chicago:20241201T110000
DTEND;TZID=America/Chicago:20241201T210000
DTSTAMP:20260424T095202
CREATED:20250429T160339Z
LAST-MODIFIED:20250429T160503Z
UID:10007928-1733050800-1733086800@castledangerbrewery.com
SUMMARY:Stock Up Sunday
DESCRIPTION:Buy one get one 1/2 off on all crowlers and growlers!
URL:https://castledangerbrewery.com/event/stock-up-sunday/2024-12-01/
LOCATION:Castle Danger Brewery\, 17 7th Street\, Two Harbors\, MN\, 55616\, United States
CATEGORIES:Weekly Specials
GEO:47.0197477;-91.6728918
X-APPLE-STRUCTURED-LOCATION;VALUE=URI;X-ADDRESS=Castle Danger Brewery 17 7th Street Two Harbors MN 55616 United States;X-APPLE-RADIUS=500;X-TITLE=17 7th Street:geo:-91.6728918,47.0197477
END:VEVENT
BEGIN:VEVENT
DTSTART;VALUE=DATE:20241127
DTEND;VALUE=DATE:20241128
DTSTAMP:20260424T095202
CREATED:20221108T161721Z
LAST-MODIFIED:20260218T201821Z
UID:10005500-1732665600-1732751999@castledangerbrewery.com
SUMMARY:Double-Points for Loyalty Members
DESCRIPTION:Taproom Loyalty members will receive double-points for their purchases on Wednesdays. Beers\, a t-shirt from the merch store\, another beer\, a growler of your favorite beer to go\, all double-points on Wednesdays. Not a Taproom Loyalty member? Join on your next trip to the brewery or sign up here. 
URL:https://castledangerbrewery.com/event/double-points-for-loyalty-members/2024-11-27/
LOCATION:Castle Danger Brewery\, 17 7th Street\, Two Harbors\, MN\, 55616\, United States
CATEGORIES:Weekly Specials
ATTACH;FMTTYPE=image/png:https://castledangerbrewery.com/wp-content/uploads/4.png
GEO:47.0197477;-91.6728918
X-APPLE-STRUCTURED-LOCATION;VALUE=URI;X-ADDRESS=Castle Danger Brewery 17 7th Street Two Harbors MN 55616 United States;X-APPLE-RADIUS=500;X-TITLE=17 7th Street:geo:-91.6728918,47.0197477
END:VEVENT
BEGIN:VEVENT
DTSTART;TZID=America/Chicago:20241124T110000
DTEND;TZID=America/Chicago:20241124T210000
DTSTAMP:20260424T095202
CREATED:20250429T160339Z
LAST-MODIFIED:20250429T160503Z
UID:10007927-1732446000-1732482000@castledangerbrewery.com
SUMMARY:Stock Up Sunday
DESCRIPTION:Buy one get one 1/2 off on all crowlers and growlers!
URL:https://castledangerbrewery.com/event/stock-up-sunday/2024-11-24/
LOCATION:Castle Danger Brewery\, 17 7th Street\, Two Harbors\, MN\, 55616\, United States
CATEGORIES:Weekly Specials
GEO:47.0197477;-91.6728918
X-APPLE-STRUCTURED-LOCATION;VALUE=URI;X-ADDRESS=Castle Danger Brewery 17 7th Street Two Harbors MN 55616 United States;X-APPLE-RADIUS=500;X-TITLE=17 7th Street:geo:-91.6728918,47.0197477
END:VEVENT
BEGIN:VEVENT
DTSTART;VALUE=DATE:20241120
DTEND;VALUE=DATE:20241121
DTSTAMP:20260424T095202
CREATED:20221108T161721Z
LAST-MODIFIED:20260218T201821Z
UID:10005499-1732060800-1732147199@castledangerbrewery.com
SUMMARY:Double-Points for Loyalty Members
DESCRIPTION:Taproom Loyalty members will receive double-points for their purchases on Wednesdays. Beers\, a t-shirt from the merch store\, another beer\, a growler of your favorite beer to go\, all double-points on Wednesdays. Not a Taproom Loyalty member? Join on your next trip to the brewery or sign up here. 
URL:https://castledangerbrewery.com/event/double-points-for-loyalty-members/2024-11-20/
LOCATION:Castle Danger Brewery\, 17 7th Street\, Two Harbors\, MN\, 55616\, United States
CATEGORIES:Weekly Specials
ATTACH;FMTTYPE=image/png:https://castledangerbrewery.com/wp-content/uploads/4.png
GEO:47.0197477;-91.6728918
X-APPLE-STRUCTURED-LOCATION;VALUE=URI;X-ADDRESS=Castle Danger Brewery 17 7th Street Two Harbors MN 55616 United States;X-APPLE-RADIUS=500;X-TITLE=17 7th Street:geo:-91.6728918,47.0197477
END:VEVENT
BEGIN:VEVENT
DTSTART;TZID=America/Chicago:20241117T110000
DTEND;TZID=America/Chicago:20241117T210000
DTSTAMP:20260424T095202
CREATED:20250429T160339Z
LAST-MODIFIED:20250429T160503Z
UID:10007926-1731841200-1731877200@castledangerbrewery.com
SUMMARY:Stock Up Sunday
DESCRIPTION:Buy one get one 1/2 off on all crowlers and growlers!
URL:https://castledangerbrewery.com/event/stock-up-sunday/2024-11-17/
LOCATION:Castle Danger Brewery\, 17 7th Street\, Two Harbors\, MN\, 55616\, United States
CATEGORIES:Weekly Specials
GEO:47.0197477;-91.6728918
X-APPLE-STRUCTURED-LOCATION;VALUE=URI;X-ADDRESS=Castle Danger Brewery 17 7th Street Two Harbors MN 55616 United States;X-APPLE-RADIUS=500;X-TITLE=17 7th Street:geo:-91.6728918,47.0197477
END:VEVENT
BEGIN:VEVENT
DTSTART;VALUE=DATE:20241113
DTEND;VALUE=DATE:20241114
DTSTAMP:20260424T095202
CREATED:20221108T161721Z
LAST-MODIFIED:20260218T201821Z
UID:10005498-1731456000-1731542399@castledangerbrewery.com
SUMMARY:Double-Points for Loyalty Members
DESCRIPTION:Taproom Loyalty members will receive double-points for their purchases on Wednesdays. Beers\, a t-shirt from the merch store\, another beer\, a growler of your favorite beer to go\, all double-points on Wednesdays. Not a Taproom Loyalty member? Join on your next trip to the brewery or sign up here. 
URL:https://castledangerbrewery.com/event/double-points-for-loyalty-members/2024-11-13/
LOCATION:Castle Danger Brewery\, 17 7th Street\, Two Harbors\, MN\, 55616\, United States
CATEGORIES:Weekly Specials
ATTACH;FMTTYPE=image/png:https://castledangerbrewery.com/wp-content/uploads/4.png
GEO:47.0197477;-91.6728918
X-APPLE-STRUCTURED-LOCATION;VALUE=URI;X-ADDRESS=Castle Danger Brewery 17 7th Street Two Harbors MN 55616 United States;X-APPLE-RADIUS=500;X-TITLE=17 7th Street:geo:-91.6728918,47.0197477
END:VEVENT
BEGIN:VEVENT
DTSTART;TZID=America/Chicago:20241110T110000
DTEND;TZID=America/Chicago:20241110T210000
DTSTAMP:20260424T095202
CREATED:20250429T160339Z
LAST-MODIFIED:20250429T160503Z
UID:10007925-1731236400-1731272400@castledangerbrewery.com
SUMMARY:Stock Up Sunday
DESCRIPTION:Buy one get one 1/2 off on all crowlers and growlers!
URL:https://castledangerbrewery.com/event/stock-up-sunday/2024-11-10/
LOCATION:Castle Danger Brewery\, 17 7th Street\, Two Harbors\, MN\, 55616\, United States
CATEGORIES:Weekly Specials
GEO:47.0197477;-91.6728918
X-APPLE-STRUCTURED-LOCATION;VALUE=URI;X-ADDRESS=Castle Danger Brewery 17 7th Street Two Harbors MN 55616 United States;X-APPLE-RADIUS=500;X-TITLE=17 7th Street:geo:-91.6728918,47.0197477
END:VEVENT
BEGIN:VEVENT
DTSTART;VALUE=DATE:20241106
DTEND;VALUE=DATE:20241107
DTSTAMP:20260424T095202
CREATED:20221108T161721Z
LAST-MODIFIED:20260218T201821Z
UID:10005497-1730851200-1730937599@castledangerbrewery.com
SUMMARY:Double-Points for Loyalty Members
DESCRIPTION:Taproom Loyalty members will receive double-points for their purchases on Wednesdays. Beers\, a t-shirt from the merch store\, another beer\, a growler of your favorite beer to go\, all double-points on Wednesdays. Not a Taproom Loyalty member? Join on your next trip to the brewery or sign up here. 
URL:https://castledangerbrewery.com/event/double-points-for-loyalty-members/2024-11-06/
LOCATION:Castle Danger Brewery\, 17 7th Street\, Two Harbors\, MN\, 55616\, United States
CATEGORIES:Weekly Specials
ATTACH;FMTTYPE=image/png:https://castledangerbrewery.com/wp-content/uploads/4.png
GEO:47.0197477;-91.6728918
X-APPLE-STRUCTURED-LOCATION;VALUE=URI;X-ADDRESS=Castle Danger Brewery 17 7th Street Two Harbors MN 55616 United States;X-APPLE-RADIUS=500;X-TITLE=17 7th Street:geo:-91.6728918,47.0197477
END:VEVENT
BEGIN:VEVENT
DTSTART;TZID=America/Chicago:20241103T110000
DTEND;TZID=America/Chicago:20241103T210000
DTSTAMP:20260424T095202
CREATED:20250429T160339Z
LAST-MODIFIED:20250429T160503Z
UID:10007924-1730631600-1730667600@castledangerbrewery.com
SUMMARY:Stock Up Sunday
DESCRIPTION:Buy one get one 1/2 off on all crowlers and growlers!
URL:https://castledangerbrewery.com/event/stock-up-sunday/2024-11-03/
LOCATION:Castle Danger Brewery\, 17 7th Street\, Two Harbors\, MN\, 55616\, United States
CATEGORIES:Weekly Specials
GEO:47.0197477;-91.6728918
X-APPLE-STRUCTURED-LOCATION;VALUE=URI;X-ADDRESS=Castle Danger Brewery 17 7th Street Two Harbors MN 55616 United States;X-APPLE-RADIUS=500;X-TITLE=17 7th Street:geo:-91.6728918,47.0197477
END:VEVENT
BEGIN:VEVENT
DTSTART;VALUE=DATE:20241030
DTEND;VALUE=DATE:20241031
DTSTAMP:20260424T095202
CREATED:20221108T161721Z
LAST-MODIFIED:20260218T201821Z
UID:10005496-1730246400-1730332799@castledangerbrewery.com
SUMMARY:Double-Points for Loyalty Members
DESCRIPTION:Taproom Loyalty members will receive double-points for their purchases on Wednesdays. Beers\, a t-shirt from the merch store\, another beer\, a growler of your favorite beer to go\, all double-points on Wednesdays. Not a Taproom Loyalty member? Join on your next trip to the brewery or sign up here. 
URL:https://castledangerbrewery.com/event/double-points-for-loyalty-members/2024-10-30/
LOCATION:Castle Danger Brewery\, 17 7th Street\, Two Harbors\, MN\, 55616\, United States
CATEGORIES:Weekly Specials
ATTACH;FMTTYPE=image/png:https://castledangerbrewery.com/wp-content/uploads/4.png
GEO:47.0197477;-91.6728918
X-APPLE-STRUCTURED-LOCATION;VALUE=URI;X-ADDRESS=Castle Danger Brewery 17 7th Street Two Harbors MN 55616 United States;X-APPLE-RADIUS=500;X-TITLE=17 7th Street:geo:-91.6728918,47.0197477
END:VEVENT
BEGIN:VEVENT
DTSTART;VALUE=DATE:20241023
DTEND;VALUE=DATE:20241024
DTSTAMP:20260424T095202
CREATED:20221108T161721Z
LAST-MODIFIED:20260218T201821Z
UID:10005495-1729641600-1729727999@castledangerbrewery.com
SUMMARY:Double-Points for Loyalty Members
DESCRIPTION:Taproom Loyalty members will receive double-points for their purchases on Wednesdays. Beers\, a t-shirt from the merch store\, another beer\, a growler of your favorite beer to go\, all double-points on Wednesdays. Not a Taproom Loyalty member? Join on your next trip to the brewery or sign up here. 
URL:https://castledangerbrewery.com/event/double-points-for-loyalty-members/2024-10-23/
LOCATION:Castle Danger Brewery\, 17 7th Street\, Two Harbors\, MN\, 55616\, United States
CATEGORIES:Weekly Specials
ATTACH;FMTTYPE=image/png:https://castledangerbrewery.com/wp-content/uploads/4.png
GEO:47.0197477;-91.6728918
X-APPLE-STRUCTURED-LOCATION;VALUE=URI;X-ADDRESS=Castle Danger Brewery 17 7th Street Two Harbors MN 55616 United States;X-APPLE-RADIUS=500;X-TITLE=17 7th Street:geo:-91.6728918,47.0197477
END:VEVENT
BEGIN:VEVENT
DTSTART;VALUE=DATE:20241016
DTEND;VALUE=DATE:20241017
DTSTAMP:20260424T095202
CREATED:20221108T161721Z
LAST-MODIFIED:20260218T201821Z
UID:10005494-1729036800-1729123199@castledangerbrewery.com
SUMMARY:Double-Points for Loyalty Members
DESCRIPTION:Taproom Loyalty members will receive double-points for their purchases on Wednesdays. Beers\, a t-shirt from the merch store\, another beer\, a growler of your favorite beer to go\, all double-points on Wednesdays. Not a Taproom Loyalty member? Join on your next trip to the brewery or sign up here. 
URL:https://castledangerbrewery.com/event/double-points-for-loyalty-members/2024-10-16/
LOCATION:Castle Danger Brewery\, 17 7th Street\, Two Harbors\, MN\, 55616\, United States
CATEGORIES:Weekly Specials
ATTACH;FMTTYPE=image/png:https://castledangerbrewery.com/wp-content/uploads/4.png
GEO:47.0197477;-91.6728918
X-APPLE-STRUCTURED-LOCATION;VALUE=URI;X-ADDRESS=Castle Danger Brewery 17 7th Street Two Harbors MN 55616 United States;X-APPLE-RADIUS=500;X-TITLE=17 7th Street:geo:-91.6728918,47.0197477
END:VEVENT
BEGIN:VEVENT
DTSTART;VALUE=DATE:20241009
DTEND;VALUE=DATE:20241010
DTSTAMP:20260424T095202
CREATED:20221108T161721Z
LAST-MODIFIED:20260218T201821Z
UID:10005493-1728432000-1728518399@castledangerbrewery.com
SUMMARY:Double-Points for Loyalty Members
DESCRIPTION:Taproom Loyalty members will receive double-points for their purchases on Wednesdays. Beers\, a t-shirt from the merch store\, another beer\, a growler of your favorite beer to go\, all double-points on Wednesdays. Not a Taproom Loyalty member? Join on your next trip to the brewery or sign up here. 
URL:https://castledangerbrewery.com/event/double-points-for-loyalty-members/2024-10-09/
LOCATION:Castle Danger Brewery\, 17 7th Street\, Two Harbors\, MN\, 55616\, United States
CATEGORIES:Weekly Specials
ATTACH;FMTTYPE=image/png:https://castledangerbrewery.com/wp-content/uploads/4.png
GEO:47.0197477;-91.6728918
X-APPLE-STRUCTURED-LOCATION;VALUE=URI;X-ADDRESS=Castle Danger Brewery 17 7th Street Two Harbors MN 55616 United States;X-APPLE-RADIUS=500;X-TITLE=17 7th Street:geo:-91.6728918,47.0197477
END:VEVENT
BEGIN:VEVENT
DTSTART;VALUE=DATE:20241002
DTEND;VALUE=DATE:20241003
DTSTAMP:20260424T095202
CREATED:20221108T161721Z
LAST-MODIFIED:20260218T201821Z
UID:10005492-1727827200-1727913599@castledangerbrewery.com
SUMMARY:Double-Points for Loyalty Members
DESCRIPTION:Taproom Loyalty members will receive double-points for their purchases on Wednesdays. Beers\, a t-shirt from the merch store\, another beer\, a growler of your favorite beer to go\, all double-points on Wednesdays. Not a Taproom Loyalty member? Join on your next trip to the brewery or sign up here. 
URL:https://castledangerbrewery.com/event/double-points-for-loyalty-members/2024-10-02/
LOCATION:Castle Danger Brewery\, 17 7th Street\, Two Harbors\, MN\, 55616\, United States
CATEGORIES:Weekly Specials
ATTACH;FMTTYPE=image/png:https://castledangerbrewery.com/wp-content/uploads/4.png
GEO:47.0197477;-91.6728918
X-APPLE-STRUCTURED-LOCATION;VALUE=URI;X-ADDRESS=Castle Danger Brewery 17 7th Street Two Harbors MN 55616 United States;X-APPLE-RADIUS=500;X-TITLE=17 7th Street:geo:-91.6728918,47.0197477
END:VEVENT
BEGIN:VEVENT
DTSTART;VALUE=DATE:20240925
DTEND;VALUE=DATE:20240926
DTSTAMP:20260424T095202
CREATED:20221108T161721Z
LAST-MODIFIED:20260218T201821Z
UID:10005491-1727222400-1727308799@castledangerbrewery.com
SUMMARY:Double-Points for Loyalty Members
DESCRIPTION:Taproom Loyalty members will receive double-points for their purchases on Wednesdays. Beers\, a t-shirt from the merch store\, another beer\, a growler of your favorite beer to go\, all double-points on Wednesdays. Not a Taproom Loyalty member? Join on your next trip to the brewery or sign up here. 
URL:https://castledangerbrewery.com/event/double-points-for-loyalty-members/2024-09-25/
LOCATION:Castle Danger Brewery\, 17 7th Street\, Two Harbors\, MN\, 55616\, United States
CATEGORIES:Weekly Specials
ATTACH;FMTTYPE=image/png:https://castledangerbrewery.com/wp-content/uploads/4.png
GEO:47.0197477;-91.6728918
X-APPLE-STRUCTURED-LOCATION;VALUE=URI;X-ADDRESS=Castle Danger Brewery 17 7th Street Two Harbors MN 55616 United States;X-APPLE-RADIUS=500;X-TITLE=17 7th Street:geo:-91.6728918,47.0197477
END:VEVENT
END:VCALENDAR