BEGIN:VCALENDAR
VERSION:2.0
PRODID:-//Castle Danger Brewing - ECPv6.15.20//NONSGML v1.0//EN
CALSCALE:GREGORIAN
METHOD:PUBLISH
X-ORIGINAL-URL:https://castledangerbrewery.com
X-WR-CALDESC:Events for Castle Danger Brewing
REFRESH-INTERVAL;VALUE=DURATION:PT1H
X-Robots-Tag:noindex
X-PUBLISHED-TTL:PT1H
BEGIN:VTIMEZONE
TZID:America/Chicago
BEGIN:DAYLIGHT
TZOFFSETFROM:-0600
TZOFFSETTO:-0500
TZNAME:CDT
DTSTART:20290311T080000
END:DAYLIGHT
BEGIN:STANDARD
TZOFFSETFROM:-0500
TZOFFSETTO:-0600
TZNAME:CST
DTSTART:20291104T070000
END:STANDARD
BEGIN:DAYLIGHT
TZOFFSETFROM:-0600
TZOFFSETTO:-0500
TZNAME:CDT
DTSTART:20300310T080000
END:DAYLIGHT
BEGIN:STANDARD
TZOFFSETFROM:-0500
TZOFFSETTO:-0600
TZNAME:CST
DTSTART:20301103T070000
END:STANDARD
BEGIN:DAYLIGHT
TZOFFSETFROM:-0600
TZOFFSETTO:-0500
TZNAME:CDT
DTSTART:20310309T080000
END:DAYLIGHT
BEGIN:STANDARD
TZOFFSETFROM:-0500
TZOFFSETTO:-0600
TZNAME:CST
DTSTART:20311102T070000
END:STANDARD
BEGIN:DAYLIGHT
TZOFFSETFROM:-0600
TZOFFSETTO:-0500
TZNAME:CDT
DTSTART:20320314T080000
END:DAYLIGHT
BEGIN:STANDARD
TZOFFSETFROM:-0500
TZOFFSETTO:-0600
TZNAME:CST
DTSTART:20321107T070000
END:STANDARD
END:VTIMEZONE
BEGIN:VEVENT
DTSTART;VALUE=DATE:20301023
DTEND;VALUE=DATE:20301024
DTSTAMP:20260424T130153
CREATED:20221108T161721Z
LAST-MODIFIED:20260218T201821Z
UID:10009052-1918944000-1919030399@castledangerbrewery.com
SUMMARY:Double-Points for Loyalty Members
DESCRIPTION:Taproom Loyalty members will receive double-points for their purchases on Wednesdays. Beers\, a t-shirt from the merch store\, another beer\, a growler of your favorite beer to go\, all double-points on Wednesdays. Not a Taproom Loyalty member? Join on your next trip to the brewery or sign up here. 
URL:https://castledangerbrewery.com/event/double-points-for-loyalty-members/2030-10-23/
LOCATION:Castle Danger Brewery\, 17 7th Street\, Two Harbors\, MN\, 55616\, United States
CATEGORIES:Weekly Specials
ATTACH;FMTTYPE=image/png:https://castledangerbrewery.com/wp-content/uploads/4.png
GEO:47.0197477;-91.6728918
X-APPLE-STRUCTURED-LOCATION;VALUE=URI;X-ADDRESS=Castle Danger Brewery 17 7th Street Two Harbors MN 55616 United States;X-APPLE-RADIUS=500;X-TITLE=17 7th Street:geo:-91.6728918,47.0197477
END:VEVENT
BEGIN:VEVENT
DTSTART;VALUE=DATE:20301030
DTEND;VALUE=DATE:20301031
DTSTAMP:20260424T130153
CREATED:20221108T161721Z
LAST-MODIFIED:20260218T201821Z
UID:10009053-1919548800-1919635199@castledangerbrewery.com
SUMMARY:Double-Points for Loyalty Members
DESCRIPTION:Taproom Loyalty members will receive double-points for their purchases on Wednesdays. Beers\, a t-shirt from the merch store\, another beer\, a growler of your favorite beer to go\, all double-points on Wednesdays. Not a Taproom Loyalty member? Join on your next trip to the brewery or sign up here. 
URL:https://castledangerbrewery.com/event/double-points-for-loyalty-members/2030-10-30/
LOCATION:Castle Danger Brewery\, 17 7th Street\, Two Harbors\, MN\, 55616\, United States
CATEGORIES:Weekly Specials
ATTACH;FMTTYPE=image/png:https://castledangerbrewery.com/wp-content/uploads/4.png
GEO:47.0197477;-91.6728918
X-APPLE-STRUCTURED-LOCATION;VALUE=URI;X-ADDRESS=Castle Danger Brewery 17 7th Street Two Harbors MN 55616 United States;X-APPLE-RADIUS=500;X-TITLE=17 7th Street:geo:-91.6728918,47.0197477
END:VEVENT
BEGIN:VEVENT
DTSTART;VALUE=DATE:20301106
DTEND;VALUE=DATE:20301107
DTSTAMP:20260424T130153
CREATED:20221108T161721Z
LAST-MODIFIED:20260218T201821Z
UID:10009054-1920153600-1920239999@castledangerbrewery.com
SUMMARY:Double-Points for Loyalty Members
DESCRIPTION:Taproom Loyalty members will receive double-points for their purchases on Wednesdays. Beers\, a t-shirt from the merch store\, another beer\, a growler of your favorite beer to go\, all double-points on Wednesdays. Not a Taproom Loyalty member? Join on your next trip to the brewery or sign up here. 
URL:https://castledangerbrewery.com/event/double-points-for-loyalty-members/2030-11-06/
LOCATION:Castle Danger Brewery\, 17 7th Street\, Two Harbors\, MN\, 55616\, United States
CATEGORIES:Weekly Specials
ATTACH;FMTTYPE=image/png:https://castledangerbrewery.com/wp-content/uploads/4.png
GEO:47.0197477;-91.6728918
X-APPLE-STRUCTURED-LOCATION;VALUE=URI;X-ADDRESS=Castle Danger Brewery 17 7th Street Two Harbors MN 55616 United States;X-APPLE-RADIUS=500;X-TITLE=17 7th Street:geo:-91.6728918,47.0197477
END:VEVENT
BEGIN:VEVENT
DTSTART;VALUE=DATE:20301113
DTEND;VALUE=DATE:20301114
DTSTAMP:20260424T130153
CREATED:20221108T161721Z
LAST-MODIFIED:20260218T201821Z
UID:10009350-1920758400-1920844799@castledangerbrewery.com
SUMMARY:Double-Points for Loyalty Members
DESCRIPTION:Taproom Loyalty members will receive double-points for their purchases on Wednesdays. Beers\, a t-shirt from the merch store\, another beer\, a growler of your favorite beer to go\, all double-points on Wednesdays. Not a Taproom Loyalty member? Join on your next trip to the brewery or sign up here. 
URL:https://castledangerbrewery.com/event/double-points-for-loyalty-members/2030-11-13/
LOCATION:Castle Danger Brewery\, 17 7th Street\, Two Harbors\, MN\, 55616\, United States
CATEGORIES:Weekly Specials
ATTACH;FMTTYPE=image/png:https://castledangerbrewery.com/wp-content/uploads/4.png
GEO:47.0197477;-91.6728918
X-APPLE-STRUCTURED-LOCATION;VALUE=URI;X-ADDRESS=Castle Danger Brewery 17 7th Street Two Harbors MN 55616 United States;X-APPLE-RADIUS=500;X-TITLE=17 7th Street:geo:-91.6728918,47.0197477
END:VEVENT
BEGIN:VEVENT
DTSTART;VALUE=DATE:20301120
DTEND;VALUE=DATE:20301121
DTSTAMP:20260424T130153
CREATED:20221108T161721Z
LAST-MODIFIED:20260218T201821Z
UID:10009351-1921363200-1921449599@castledangerbrewery.com
SUMMARY:Double-Points for Loyalty Members
DESCRIPTION:Taproom Loyalty members will receive double-points for their purchases on Wednesdays. Beers\, a t-shirt from the merch store\, another beer\, a growler of your favorite beer to go\, all double-points on Wednesdays. Not a Taproom Loyalty member? Join on your next trip to the brewery or sign up here. 
URL:https://castledangerbrewery.com/event/double-points-for-loyalty-members/2030-11-20/
LOCATION:Castle Danger Brewery\, 17 7th Street\, Two Harbors\, MN\, 55616\, United States
CATEGORIES:Weekly Specials
ATTACH;FMTTYPE=image/png:https://castledangerbrewery.com/wp-content/uploads/4.png
GEO:47.0197477;-91.6728918
X-APPLE-STRUCTURED-LOCATION;VALUE=URI;X-ADDRESS=Castle Danger Brewery 17 7th Street Two Harbors MN 55616 United States;X-APPLE-RADIUS=500;X-TITLE=17 7th Street:geo:-91.6728918,47.0197477
END:VEVENT
BEGIN:VEVENT
DTSTART;VALUE=DATE:20301127
DTEND;VALUE=DATE:20301128
DTSTAMP:20260424T130153
CREATED:20221108T161721Z
LAST-MODIFIED:20260218T201821Z
UID:10009352-1921968000-1922054399@castledangerbrewery.com
SUMMARY:Double-Points for Loyalty Members
DESCRIPTION:Taproom Loyalty members will receive double-points for their purchases on Wednesdays. Beers\, a t-shirt from the merch store\, another beer\, a growler of your favorite beer to go\, all double-points on Wednesdays. Not a Taproom Loyalty member? Join on your next trip to the brewery or sign up here. 
URL:https://castledangerbrewery.com/event/double-points-for-loyalty-members/2030-11-27/
LOCATION:Castle Danger Brewery\, 17 7th Street\, Two Harbors\, MN\, 55616\, United States
CATEGORIES:Weekly Specials
ATTACH;FMTTYPE=image/png:https://castledangerbrewery.com/wp-content/uploads/4.png
GEO:47.0197477;-91.6728918
X-APPLE-STRUCTURED-LOCATION;VALUE=URI;X-ADDRESS=Castle Danger Brewery 17 7th Street Two Harbors MN 55616 United States;X-APPLE-RADIUS=500;X-TITLE=17 7th Street:geo:-91.6728918,47.0197477
END:VEVENT
BEGIN:VEVENT
DTSTART;VALUE=DATE:20301204
DTEND;VALUE=DATE:20301205
DTSTAMP:20260424T130154
CREATED:20221108T161721Z
LAST-MODIFIED:20260218T201821Z
UID:10009353-1922572800-1922659199@castledangerbrewery.com
SUMMARY:Double-Points for Loyalty Members
DESCRIPTION:Taproom Loyalty members will receive double-points for their purchases on Wednesdays. Beers\, a t-shirt from the merch store\, another beer\, a growler of your favorite beer to go\, all double-points on Wednesdays. Not a Taproom Loyalty member? Join on your next trip to the brewery or sign up here. 
URL:https://castledangerbrewery.com/event/double-points-for-loyalty-members/2030-12-04/
LOCATION:Castle Danger Brewery\, 17 7th Street\, Two Harbors\, MN\, 55616\, United States
CATEGORIES:Weekly Specials
ATTACH;FMTTYPE=image/png:https://castledangerbrewery.com/wp-content/uploads/4.png
GEO:47.0197477;-91.6728918
X-APPLE-STRUCTURED-LOCATION;VALUE=URI;X-ADDRESS=Castle Danger Brewery 17 7th Street Two Harbors MN 55616 United States;X-APPLE-RADIUS=500;X-TITLE=17 7th Street:geo:-91.6728918,47.0197477
END:VEVENT
BEGIN:VEVENT
DTSTART;VALUE=DATE:20301211
DTEND;VALUE=DATE:20301212
DTSTAMP:20260424T130154
CREATED:20221108T161721Z
LAST-MODIFIED:20260218T201821Z
UID:10009354-1923177600-1923263999@castledangerbrewery.com
SUMMARY:Double-Points for Loyalty Members
DESCRIPTION:Taproom Loyalty members will receive double-points for their purchases on Wednesdays. Beers\, a t-shirt from the merch store\, another beer\, a growler of your favorite beer to go\, all double-points on Wednesdays. Not a Taproom Loyalty member? Join on your next trip to the brewery or sign up here. 
URL:https://castledangerbrewery.com/event/double-points-for-loyalty-members/2030-12-11/
LOCATION:Castle Danger Brewery\, 17 7th Street\, Two Harbors\, MN\, 55616\, United States
CATEGORIES:Weekly Specials
ATTACH;FMTTYPE=image/png:https://castledangerbrewery.com/wp-content/uploads/4.png
GEO:47.0197477;-91.6728918
X-APPLE-STRUCTURED-LOCATION;VALUE=URI;X-ADDRESS=Castle Danger Brewery 17 7th Street Two Harbors MN 55616 United States;X-APPLE-RADIUS=500;X-TITLE=17 7th Street:geo:-91.6728918,47.0197477
END:VEVENT
BEGIN:VEVENT
DTSTART;VALUE=DATE:20301218
DTEND;VALUE=DATE:20301219
DTSTAMP:20260424T130154
CREATED:20221108T161721Z
LAST-MODIFIED:20260218T201821Z
UID:10009355-1923782400-1923868799@castledangerbrewery.com
SUMMARY:Double-Points for Loyalty Members
DESCRIPTION:Taproom Loyalty members will receive double-points for their purchases on Wednesdays. Beers\, a t-shirt from the merch store\, another beer\, a growler of your favorite beer to go\, all double-points on Wednesdays. Not a Taproom Loyalty member? Join on your next trip to the brewery or sign up here. 
URL:https://castledangerbrewery.com/event/double-points-for-loyalty-members/2030-12-18/
LOCATION:Castle Danger Brewery\, 17 7th Street\, Two Harbors\, MN\, 55616\, United States
CATEGORIES:Weekly Specials
ATTACH;FMTTYPE=image/png:https://castledangerbrewery.com/wp-content/uploads/4.png
GEO:47.0197477;-91.6728918
X-APPLE-STRUCTURED-LOCATION;VALUE=URI;X-ADDRESS=Castle Danger Brewery 17 7th Street Two Harbors MN 55616 United States;X-APPLE-RADIUS=500;X-TITLE=17 7th Street:geo:-91.6728918,47.0197477
END:VEVENT
BEGIN:VEVENT
DTSTART;VALUE=DATE:20301225
DTEND;VALUE=DATE:20301226
DTSTAMP:20260424T130154
CREATED:20221108T161721Z
LAST-MODIFIED:20260218T201821Z
UID:10009356-1924387200-1924473599@castledangerbrewery.com
SUMMARY:Double-Points for Loyalty Members
DESCRIPTION:Taproom Loyalty members will receive double-points for their purchases on Wednesdays. Beers\, a t-shirt from the merch store\, another beer\, a growler of your favorite beer to go\, all double-points on Wednesdays. Not a Taproom Loyalty member? Join on your next trip to the brewery or sign up here. 
URL:https://castledangerbrewery.com/event/double-points-for-loyalty-members/2030-12-25/
LOCATION:Castle Danger Brewery\, 17 7th Street\, Two Harbors\, MN\, 55616\, United States
CATEGORIES:Weekly Specials
ATTACH;FMTTYPE=image/png:https://castledangerbrewery.com/wp-content/uploads/4.png
GEO:47.0197477;-91.6728918
X-APPLE-STRUCTURED-LOCATION;VALUE=URI;X-ADDRESS=Castle Danger Brewery 17 7th Street Two Harbors MN 55616 United States;X-APPLE-RADIUS=500;X-TITLE=17 7th Street:geo:-91.6728918,47.0197477
END:VEVENT
BEGIN:VEVENT
DTSTART;VALUE=DATE:20310101
DTEND;VALUE=DATE:20310102
DTSTAMP:20260424T130154
CREATED:20221108T161721Z
LAST-MODIFIED:20260218T201821Z
UID:10009357-1924992000-1925078399@castledangerbrewery.com
SUMMARY:Double-Points for Loyalty Members
DESCRIPTION:Taproom Loyalty members will receive double-points for their purchases on Wednesdays. Beers\, a t-shirt from the merch store\, another beer\, a growler of your favorite beer to go\, all double-points on Wednesdays. Not a Taproom Loyalty member? Join on your next trip to the brewery or sign up here. 
URL:https://castledangerbrewery.com/event/double-points-for-loyalty-members/2031-01-01/
LOCATION:Castle Danger Brewery\, 17 7th Street\, Two Harbors\, MN\, 55616\, United States
CATEGORIES:Weekly Specials
ATTACH;FMTTYPE=image/png:https://castledangerbrewery.com/wp-content/uploads/4.png
GEO:47.0197477;-91.6728918
X-APPLE-STRUCTURED-LOCATION;VALUE=URI;X-ADDRESS=Castle Danger Brewery 17 7th Street Two Harbors MN 55616 United States;X-APPLE-RADIUS=500;X-TITLE=17 7th Street:geo:-91.6728918,47.0197477
END:VEVENT
BEGIN:VEVENT
DTSTART;VALUE=DATE:20310108
DTEND;VALUE=DATE:20310109
DTSTAMP:20260424T130154
CREATED:20221108T161721Z
LAST-MODIFIED:20260218T201821Z
UID:10009358-1925596800-1925683199@castledangerbrewery.com
SUMMARY:Double-Points for Loyalty Members
DESCRIPTION:Taproom Loyalty members will receive double-points for their purchases on Wednesdays. Beers\, a t-shirt from the merch store\, another beer\, a growler of your favorite beer to go\, all double-points on Wednesdays. Not a Taproom Loyalty member? Join on your next trip to the brewery or sign up here. 
URL:https://castledangerbrewery.com/event/double-points-for-loyalty-members/2031-01-08/
LOCATION:Castle Danger Brewery\, 17 7th Street\, Two Harbors\, MN\, 55616\, United States
CATEGORIES:Weekly Specials
ATTACH;FMTTYPE=image/png:https://castledangerbrewery.com/wp-content/uploads/4.png
GEO:47.0197477;-91.6728918
X-APPLE-STRUCTURED-LOCATION;VALUE=URI;X-ADDRESS=Castle Danger Brewery 17 7th Street Two Harbors MN 55616 United States;X-APPLE-RADIUS=500;X-TITLE=17 7th Street:geo:-91.6728918,47.0197477
END:VEVENT
BEGIN:VEVENT
DTSTART;VALUE=DATE:20310115
DTEND;VALUE=DATE:20310116
DTSTAMP:20260424T130154
CREATED:20221108T161721Z
LAST-MODIFIED:20260218T201821Z
UID:10009359-1926201600-1926287999@castledangerbrewery.com
SUMMARY:Double-Points for Loyalty Members
DESCRIPTION:Taproom Loyalty members will receive double-points for their purchases on Wednesdays. Beers\, a t-shirt from the merch store\, another beer\, a growler of your favorite beer to go\, all double-points on Wednesdays. Not a Taproom Loyalty member? Join on your next trip to the brewery or sign up here. 
URL:https://castledangerbrewery.com/event/double-points-for-loyalty-members/2031-01-15/
LOCATION:Castle Danger Brewery\, 17 7th Street\, Two Harbors\, MN\, 55616\, United States
CATEGORIES:Weekly Specials
ATTACH;FMTTYPE=image/png:https://castledangerbrewery.com/wp-content/uploads/4.png
GEO:47.0197477;-91.6728918
X-APPLE-STRUCTURED-LOCATION;VALUE=URI;X-ADDRESS=Castle Danger Brewery 17 7th Street Two Harbors MN 55616 United States;X-APPLE-RADIUS=500;X-TITLE=17 7th Street:geo:-91.6728918,47.0197477
END:VEVENT
BEGIN:VEVENT
DTSTART;VALUE=DATE:20310122
DTEND;VALUE=DATE:20310123
DTSTAMP:20260424T130154
CREATED:20221108T161721Z
LAST-MODIFIED:20260218T201821Z
UID:10009360-1926806400-1926892799@castledangerbrewery.com
SUMMARY:Double-Points for Loyalty Members
DESCRIPTION:Taproom Loyalty members will receive double-points for their purchases on Wednesdays. Beers\, a t-shirt from the merch store\, another beer\, a growler of your favorite beer to go\, all double-points on Wednesdays. Not a Taproom Loyalty member? Join on your next trip to the brewery or sign up here. 
URL:https://castledangerbrewery.com/event/double-points-for-loyalty-members/2031-01-22/
LOCATION:Castle Danger Brewery\, 17 7th Street\, Two Harbors\, MN\, 55616\, United States
CATEGORIES:Weekly Specials
ATTACH;FMTTYPE=image/png:https://castledangerbrewery.com/wp-content/uploads/4.png
GEO:47.0197477;-91.6728918
X-APPLE-STRUCTURED-LOCATION;VALUE=URI;X-ADDRESS=Castle Danger Brewery 17 7th Street Two Harbors MN 55616 United States;X-APPLE-RADIUS=500;X-TITLE=17 7th Street:geo:-91.6728918,47.0197477
END:VEVENT
BEGIN:VEVENT
DTSTART;VALUE=DATE:20310129
DTEND;VALUE=DATE:20310130
DTSTAMP:20260424T130154
CREATED:20221108T161721Z
LAST-MODIFIED:20260218T201821Z
UID:10009361-1927411200-1927497599@castledangerbrewery.com
SUMMARY:Double-Points for Loyalty Members
DESCRIPTION:Taproom Loyalty members will receive double-points for their purchases on Wednesdays. Beers\, a t-shirt from the merch store\, another beer\, a growler of your favorite beer to go\, all double-points on Wednesdays. Not a Taproom Loyalty member? Join on your next trip to the brewery or sign up here. 
URL:https://castledangerbrewery.com/event/double-points-for-loyalty-members/2031-01-29/
LOCATION:Castle Danger Brewery\, 17 7th Street\, Two Harbors\, MN\, 55616\, United States
CATEGORIES:Weekly Specials
ATTACH;FMTTYPE=image/png:https://castledangerbrewery.com/wp-content/uploads/4.png
GEO:47.0197477;-91.6728918
X-APPLE-STRUCTURED-LOCATION;VALUE=URI;X-ADDRESS=Castle Danger Brewery 17 7th Street Two Harbors MN 55616 United States;X-APPLE-RADIUS=500;X-TITLE=17 7th Street:geo:-91.6728918,47.0197477
END:VEVENT
BEGIN:VEVENT
DTSTART;VALUE=DATE:20310205
DTEND;VALUE=DATE:20310206
DTSTAMP:20260424T130154
CREATED:20221108T161721Z
LAST-MODIFIED:20260218T201821Z
UID:10009362-1928016000-1928102399@castledangerbrewery.com
SUMMARY:Double-Points for Loyalty Members
DESCRIPTION:Taproom Loyalty members will receive double-points for their purchases on Wednesdays. Beers\, a t-shirt from the merch store\, another beer\, a growler of your favorite beer to go\, all double-points on Wednesdays. Not a Taproom Loyalty member? Join on your next trip to the brewery or sign up here. 
URL:https://castledangerbrewery.com/event/double-points-for-loyalty-members/2031-02-05/
LOCATION:Castle Danger Brewery\, 17 7th Street\, Two Harbors\, MN\, 55616\, United States
CATEGORIES:Weekly Specials
ATTACH;FMTTYPE=image/png:https://castledangerbrewery.com/wp-content/uploads/4.png
GEO:47.0197477;-91.6728918
X-APPLE-STRUCTURED-LOCATION;VALUE=URI;X-ADDRESS=Castle Danger Brewery 17 7th Street Two Harbors MN 55616 United States;X-APPLE-RADIUS=500;X-TITLE=17 7th Street:geo:-91.6728918,47.0197477
END:VEVENT
BEGIN:VEVENT
DTSTART;VALUE=DATE:20310212
DTEND;VALUE=DATE:20310213
DTSTAMP:20260424T130154
CREATED:20221108T161721Z
LAST-MODIFIED:20260218T201821Z
UID:10009363-1928620800-1928707199@castledangerbrewery.com
SUMMARY:Double-Points for Loyalty Members
DESCRIPTION:Taproom Loyalty members will receive double-points for their purchases on Wednesdays. Beers\, a t-shirt from the merch store\, another beer\, a growler of your favorite beer to go\, all double-points on Wednesdays. Not a Taproom Loyalty member? Join on your next trip to the brewery or sign up here. 
URL:https://castledangerbrewery.com/event/double-points-for-loyalty-members/2031-02-12/
LOCATION:Castle Danger Brewery\, 17 7th Street\, Two Harbors\, MN\, 55616\, United States
CATEGORIES:Weekly Specials
ATTACH;FMTTYPE=image/png:https://castledangerbrewery.com/wp-content/uploads/4.png
GEO:47.0197477;-91.6728918
X-APPLE-STRUCTURED-LOCATION;VALUE=URI;X-ADDRESS=Castle Danger Brewery 17 7th Street Two Harbors MN 55616 United States;X-APPLE-RADIUS=500;X-TITLE=17 7th Street:geo:-91.6728918,47.0197477
END:VEVENT
END:VCALENDAR