BEGIN:VCALENDAR
VERSION:2.0
PRODID:-//Castle Danger Brewing - ECPv6.15.20//NONSGML v1.0//EN
CALSCALE:GREGORIAN
METHOD:PUBLISH
X-WR-CALNAME:Castle Danger Brewing
X-ORIGINAL-URL:https://castledangerbrewery.com
X-WR-CALDESC:Events for Castle Danger Brewing
REFRESH-INTERVAL;VALUE=DURATION:PT1H
X-Robots-Tag:noindex
X-PUBLISHED-TTL:PT1H
BEGIN:VTIMEZONE
TZID:America/Chicago
BEGIN:DAYLIGHT
TZOFFSETFROM:-0600
TZOFFSETTO:-0500
TZNAME:CDT
DTSTART:20220313T080000
END:DAYLIGHT
BEGIN:STANDARD
TZOFFSETFROM:-0500
TZOFFSETTO:-0600
TZNAME:CST
DTSTART:20221106T070000
END:STANDARD
BEGIN:DAYLIGHT
TZOFFSETFROM:-0600
TZOFFSETTO:-0500
TZNAME:CDT
DTSTART:20230312T080000
END:DAYLIGHT
BEGIN:STANDARD
TZOFFSETFROM:-0500
TZOFFSETTO:-0600
TZNAME:CST
DTSTART:20231105T070000
END:STANDARD
BEGIN:DAYLIGHT
TZOFFSETFROM:-0600
TZOFFSETTO:-0500
TZNAME:CDT
DTSTART:20240310T080000
END:DAYLIGHT
BEGIN:STANDARD
TZOFFSETFROM:-0500
TZOFFSETTO:-0600
TZNAME:CST
DTSTART:20241103T070000
END:STANDARD
END:VTIMEZONE
BEGIN:VEVENT
DTSTART;VALUE=DATE:20231213
DTEND;VALUE=DATE:20231214
DTSTAMP:20260424T203138
CREATED:20221108T161721Z
LAST-MODIFIED:20260218T201821Z
UID:10005450-1702425600-1702511999@castledangerbrewery.com
SUMMARY:Double-Points for Loyalty Members
DESCRIPTION:Taproom Loyalty members will receive double-points for their purchases on Wednesdays. Beers\, a t-shirt from the merch store\, another beer\, a growler of your favorite beer to go\, all double-points on Wednesdays. Not a Taproom Loyalty member? Join on your next trip to the brewery or sign up here. 
URL:https://castledangerbrewery.com/event/double-points-for-loyalty-members/2023-12-13/
LOCATION:Castle Danger Brewery\, 17 7th Street\, Two Harbors\, MN\, 55616\, United States
CATEGORIES:Weekly Specials
ATTACH;FMTTYPE=image/png:https://castledangerbrewery.com/wp-content/uploads/4.png
GEO:47.0197477;-91.6728918
X-APPLE-STRUCTURED-LOCATION;VALUE=URI;X-ADDRESS=Castle Danger Brewery 17 7th Street Two Harbors MN 55616 United States;X-APPLE-RADIUS=500;X-TITLE=17 7th Street:geo:-91.6728918,47.0197477
END:VEVENT
BEGIN:VEVENT
DTSTART;VALUE=DATE:20231206
DTEND;VALUE=DATE:20231207
DTSTAMP:20260424T203138
CREATED:20221108T161721Z
LAST-MODIFIED:20260218T201821Z
UID:10005449-1701820800-1701907199@castledangerbrewery.com
SUMMARY:Double-Points for Loyalty Members
DESCRIPTION:Taproom Loyalty members will receive double-points for their purchases on Wednesdays. Beers\, a t-shirt from the merch store\, another beer\, a growler of your favorite beer to go\, all double-points on Wednesdays. Not a Taproom Loyalty member? Join on your next trip to the brewery or sign up here. 
URL:https://castledangerbrewery.com/event/double-points-for-loyalty-members/2023-12-06/
LOCATION:Castle Danger Brewery\, 17 7th Street\, Two Harbors\, MN\, 55616\, United States
CATEGORIES:Weekly Specials
ATTACH;FMTTYPE=image/png:https://castledangerbrewery.com/wp-content/uploads/4.png
GEO:47.0197477;-91.6728918
X-APPLE-STRUCTURED-LOCATION;VALUE=URI;X-ADDRESS=Castle Danger Brewery 17 7th Street Two Harbors MN 55616 United States;X-APPLE-RADIUS=500;X-TITLE=17 7th Street:geo:-91.6728918,47.0197477
END:VEVENT
BEGIN:VEVENT
DTSTART;VALUE=DATE:20231129
DTEND;VALUE=DATE:20231130
DTSTAMP:20260424T203138
CREATED:20221108T161721Z
LAST-MODIFIED:20260218T201821Z
UID:10005448-1701216000-1701302399@castledangerbrewery.com
SUMMARY:Double-Points for Loyalty Members
DESCRIPTION:Taproom Loyalty members will receive double-points for their purchases on Wednesdays. Beers\, a t-shirt from the merch store\, another beer\, a growler of your favorite beer to go\, all double-points on Wednesdays. Not a Taproom Loyalty member? Join on your next trip to the brewery or sign up here. 
URL:https://castledangerbrewery.com/event/double-points-for-loyalty-members/2023-11-29/
LOCATION:Castle Danger Brewery\, 17 7th Street\, Two Harbors\, MN\, 55616\, United States
CATEGORIES:Weekly Specials
ATTACH;FMTTYPE=image/png:https://castledangerbrewery.com/wp-content/uploads/4.png
GEO:47.0197477;-91.6728918
X-APPLE-STRUCTURED-LOCATION;VALUE=URI;X-ADDRESS=Castle Danger Brewery 17 7th Street Two Harbors MN 55616 United States;X-APPLE-RADIUS=500;X-TITLE=17 7th Street:geo:-91.6728918,47.0197477
END:VEVENT
BEGIN:VEVENT
DTSTART;VALUE=DATE:20231122
DTEND;VALUE=DATE:20231123
DTSTAMP:20260424T203138
CREATED:20221108T161721Z
LAST-MODIFIED:20260218T201821Z
UID:10005447-1700611200-1700697599@castledangerbrewery.com
SUMMARY:Double-Points for Loyalty Members
DESCRIPTION:Taproom Loyalty members will receive double-points for their purchases on Wednesdays. Beers\, a t-shirt from the merch store\, another beer\, a growler of your favorite beer to go\, all double-points on Wednesdays. Not a Taproom Loyalty member? Join on your next trip to the brewery or sign up here. 
URL:https://castledangerbrewery.com/event/double-points-for-loyalty-members/2023-11-22/
LOCATION:Castle Danger Brewery\, 17 7th Street\, Two Harbors\, MN\, 55616\, United States
CATEGORIES:Weekly Specials
ATTACH;FMTTYPE=image/png:https://castledangerbrewery.com/wp-content/uploads/4.png
GEO:47.0197477;-91.6728918
X-APPLE-STRUCTURED-LOCATION;VALUE=URI;X-ADDRESS=Castle Danger Brewery 17 7th Street Two Harbors MN 55616 United States;X-APPLE-RADIUS=500;X-TITLE=17 7th Street:geo:-91.6728918,47.0197477
END:VEVENT
BEGIN:VEVENT
DTSTART;VALUE=DATE:20231115
DTEND;VALUE=DATE:20231116
DTSTAMP:20260424T203138
CREATED:20221108T161721Z
LAST-MODIFIED:20260218T201821Z
UID:10005446-1700006400-1700092799@castledangerbrewery.com
SUMMARY:Double-Points for Loyalty Members
DESCRIPTION:Taproom Loyalty members will receive double-points for their purchases on Wednesdays. Beers\, a t-shirt from the merch store\, another beer\, a growler of your favorite beer to go\, all double-points on Wednesdays. Not a Taproom Loyalty member? Join on your next trip to the brewery or sign up here. 
URL:https://castledangerbrewery.com/event/double-points-for-loyalty-members/2023-11-15/
LOCATION:Castle Danger Brewery\, 17 7th Street\, Two Harbors\, MN\, 55616\, United States
CATEGORIES:Weekly Specials
ATTACH;FMTTYPE=image/png:https://castledangerbrewery.com/wp-content/uploads/4.png
GEO:47.0197477;-91.6728918
X-APPLE-STRUCTURED-LOCATION;VALUE=URI;X-ADDRESS=Castle Danger Brewery 17 7th Street Two Harbors MN 55616 United States;X-APPLE-RADIUS=500;X-TITLE=17 7th Street:geo:-91.6728918,47.0197477
END:VEVENT
BEGIN:VEVENT
DTSTART;VALUE=DATE:20231108
DTEND;VALUE=DATE:20231109
DTSTAMP:20260424T203138
CREATED:20221108T161721Z
LAST-MODIFIED:20260218T201821Z
UID:10005445-1699401600-1699487999@castledangerbrewery.com
SUMMARY:Double-Points for Loyalty Members
DESCRIPTION:Taproom Loyalty members will receive double-points for their purchases on Wednesdays. Beers\, a t-shirt from the merch store\, another beer\, a growler of your favorite beer to go\, all double-points on Wednesdays. Not a Taproom Loyalty member? Join on your next trip to the brewery or sign up here. 
URL:https://castledangerbrewery.com/event/double-points-for-loyalty-members/2023-11-08/
LOCATION:Castle Danger Brewery\, 17 7th Street\, Two Harbors\, MN\, 55616\, United States
CATEGORIES:Weekly Specials
ATTACH;FMTTYPE=image/png:https://castledangerbrewery.com/wp-content/uploads/4.png
GEO:47.0197477;-91.6728918
X-APPLE-STRUCTURED-LOCATION;VALUE=URI;X-ADDRESS=Castle Danger Brewery 17 7th Street Two Harbors MN 55616 United States;X-APPLE-RADIUS=500;X-TITLE=17 7th Street:geo:-91.6728918,47.0197477
END:VEVENT
BEGIN:VEVENT
DTSTART;VALUE=DATE:20231101
DTEND;VALUE=DATE:20231102
DTSTAMP:20260424T203138
CREATED:20221108T161721Z
LAST-MODIFIED:20260218T201821Z
UID:10005444-1698796800-1698883199@castledangerbrewery.com
SUMMARY:Double-Points for Loyalty Members
DESCRIPTION:Taproom Loyalty members will receive double-points for their purchases on Wednesdays. Beers\, a t-shirt from the merch store\, another beer\, a growler of your favorite beer to go\, all double-points on Wednesdays. Not a Taproom Loyalty member? Join on your next trip to the brewery or sign up here. 
URL:https://castledangerbrewery.com/event/double-points-for-loyalty-members/2023-11-01/
LOCATION:Castle Danger Brewery\, 17 7th Street\, Two Harbors\, MN\, 55616\, United States
CATEGORIES:Weekly Specials
ATTACH;FMTTYPE=image/png:https://castledangerbrewery.com/wp-content/uploads/4.png
GEO:47.0197477;-91.6728918
X-APPLE-STRUCTURED-LOCATION;VALUE=URI;X-ADDRESS=Castle Danger Brewery 17 7th Street Two Harbors MN 55616 United States;X-APPLE-RADIUS=500;X-TITLE=17 7th Street:geo:-91.6728918,47.0197477
END:VEVENT
END:VCALENDAR