BEGIN:VCALENDAR
VERSION:2.0
PRODID:-//Castle Danger Brewing - ECPv6.15.20//NONSGML v1.0//EN
CALSCALE:GREGORIAN
METHOD:PUBLISH
X-WR-CALNAME:Castle Danger Brewing
X-ORIGINAL-URL:https://castledangerbrewery.com
X-WR-CALDESC:Events for Castle Danger Brewing
REFRESH-INTERVAL;VALUE=DURATION:PT1H
X-Robots-Tag:noindex
X-PUBLISHED-TTL:PT1H
BEGIN:VTIMEZONE
TZID:America/Chicago
BEGIN:DAYLIGHT
TZOFFSETFROM:-0600
TZOFFSETTO:-0500
TZNAME:CDT
DTSTART:20230312T080000
END:DAYLIGHT
BEGIN:STANDARD
TZOFFSETFROM:-0500
TZOFFSETTO:-0600
TZNAME:CST
DTSTART:20231105T070000
END:STANDARD
BEGIN:DAYLIGHT
TZOFFSETFROM:-0600
TZOFFSETTO:-0500
TZNAME:CDT
DTSTART:20240310T080000
END:DAYLIGHT
BEGIN:STANDARD
TZOFFSETFROM:-0500
TZOFFSETTO:-0600
TZNAME:CST
DTSTART:20241103T070000
END:STANDARD
BEGIN:DAYLIGHT
TZOFFSETFROM:-0600
TZOFFSETTO:-0500
TZNAME:CDT
DTSTART:20250309T080000
END:DAYLIGHT
BEGIN:STANDARD
TZOFFSETFROM:-0500
TZOFFSETTO:-0600
TZNAME:CST
DTSTART:20251102T070000
END:STANDARD
END:VTIMEZONE
BEGIN:VEVENT
DTSTART;TZID=America/Chicago:20241103T110000
DTEND;TZID=America/Chicago:20241103T210000
DTSTAMP:20260421T212645
CREATED:20250429T160339Z
LAST-MODIFIED:20250429T160503Z
UID:10007924-1730631600-1730667600@castledangerbrewery.com
SUMMARY:Stock Up Sunday
DESCRIPTION:Buy one get one 1/2 off on all crowlers and growlers!
URL:https://castledangerbrewery.com/event/stock-up-sunday/2024-11-03/
LOCATION:Castle Danger Brewery\, 17 7th Street\, Two Harbors\, MN\, 55616\, United States
CATEGORIES:Weekly Specials
GEO:47.0197477;-91.6728918
X-APPLE-STRUCTURED-LOCATION;VALUE=URI;X-ADDRESS=Castle Danger Brewery 17 7th Street Two Harbors MN 55616 United States;X-APPLE-RADIUS=500;X-TITLE=17 7th Street:geo:-91.6728918,47.0197477
END:VEVENT
BEGIN:VEVENT
DTSTART;TZID=America/Chicago:20241105T180000
DTEND;TZID=America/Chicago:20241105T200000
DTSTAMP:20260421T212645
CREATED:20240930T124303Z
LAST-MODIFIED:20250828T162618Z
UID:10007004-1730829600-1730836800@castledangerbrewery.com
SUMMARY:Trivia Night with TriviaMafia
DESCRIPTION:Monthly Trivia Night with Trivia Mafia \nPut your knowledge to the test at Castle Danger Brewery’s Monthly Trivia Night\, happening every first Tuesday of the month at 6pm. Gather your friends\, grab a pint\, and get ready for a fun evening of friendly competition. \nIt’s free to play\, and the top three teams will walk away with prizes. Trivia Mafia keeps the questions fresh\, challenging\, and entertaining—so whether you’re a seasoned trivia buff or just in it for the laughs\, there’s something for everyone.
URL:https://castledangerbrewery.com/event/trivia-night-with-triviamafia/2024-11-05/
LOCATION:Castle Danger Brewery\, 17 7th Street\, Two Harbors\, MN\, 55616\, United States
CATEGORIES:Special Event
ATTACH;FMTTYPE=image/png:https://castledangerbrewery.com/wp-content/uploads/Trivia-Night_IG-FB.png
ORGANIZER;CN="Trivia Mafia":MAILTO:info@triviamafia.com
GEO:47.0197477;-91.6728918
X-APPLE-STRUCTURED-LOCATION;VALUE=URI;X-ADDRESS=Castle Danger Brewery 17 7th Street Two Harbors MN 55616 United States;X-APPLE-RADIUS=500;X-TITLE=17 7th Street:geo:-91.6728918,47.0197477
END:VEVENT
BEGIN:VEVENT
DTSTART;VALUE=DATE:20241106
DTEND;VALUE=DATE:20241107
DTSTAMP:20260421T212645
CREATED:20221108T161721Z
LAST-MODIFIED:20260218T201821Z
UID:10005497-1730851200-1730937599@castledangerbrewery.com
SUMMARY:Double-Points for Loyalty Members
DESCRIPTION:Taproom Loyalty members will receive double-points for their purchases on Wednesdays. Beers\, a t-shirt from the merch store\, another beer\, a growler of your favorite beer to go\, all double-points on Wednesdays. Not a Taproom Loyalty member? Join on your next trip to the brewery or sign up here. 
URL:https://castledangerbrewery.com/event/double-points-for-loyalty-members/2024-11-06/
LOCATION:Castle Danger Brewery\, 17 7th Street\, Two Harbors\, MN\, 55616\, United States
CATEGORIES:Weekly Specials
ATTACH;FMTTYPE=image/png:https://castledangerbrewery.com/wp-content/uploads/4.png
GEO:47.0197477;-91.6728918
X-APPLE-STRUCTURED-LOCATION;VALUE=URI;X-ADDRESS=Castle Danger Brewery 17 7th Street Two Harbors MN 55616 United States;X-APPLE-RADIUS=500;X-TITLE=17 7th Street:geo:-91.6728918,47.0197477
END:VEVENT
BEGIN:VEVENT
DTSTART;TZID=America/Chicago:20241110T110000
DTEND;TZID=America/Chicago:20241110T210000
DTSTAMP:20260421T212645
CREATED:20250429T160339Z
LAST-MODIFIED:20250429T160503Z
UID:10007925-1731236400-1731272400@castledangerbrewery.com
SUMMARY:Stock Up Sunday
DESCRIPTION:Buy one get one 1/2 off on all crowlers and growlers!
URL:https://castledangerbrewery.com/event/stock-up-sunday/2024-11-10/
LOCATION:Castle Danger Brewery\, 17 7th Street\, Two Harbors\, MN\, 55616\, United States
CATEGORIES:Weekly Specials
GEO:47.0197477;-91.6728918
X-APPLE-STRUCTURED-LOCATION;VALUE=URI;X-ADDRESS=Castle Danger Brewery 17 7th Street Two Harbors MN 55616 United States;X-APPLE-RADIUS=500;X-TITLE=17 7th Street:geo:-91.6728918,47.0197477
END:VEVENT
BEGIN:VEVENT
DTSTART;VALUE=DATE:20241113
DTEND;VALUE=DATE:20241114
DTSTAMP:20260421T212645
CREATED:20221108T161721Z
LAST-MODIFIED:20260218T201821Z
UID:10005498-1731456000-1731542399@castledangerbrewery.com
SUMMARY:Double-Points for Loyalty Members
DESCRIPTION:Taproom Loyalty members will receive double-points for their purchases on Wednesdays. Beers\, a t-shirt from the merch store\, another beer\, a growler of your favorite beer to go\, all double-points on Wednesdays. Not a Taproom Loyalty member? Join on your next trip to the brewery or sign up here. 
URL:https://castledangerbrewery.com/event/double-points-for-loyalty-members/2024-11-13/
LOCATION:Castle Danger Brewery\, 17 7th Street\, Two Harbors\, MN\, 55616\, United States
CATEGORIES:Weekly Specials
ATTACH;FMTTYPE=image/png:https://castledangerbrewery.com/wp-content/uploads/4.png
GEO:47.0197477;-91.6728918
X-APPLE-STRUCTURED-LOCATION;VALUE=URI;X-ADDRESS=Castle Danger Brewery 17 7th Street Two Harbors MN 55616 United States;X-APPLE-RADIUS=500;X-TITLE=17 7th Street:geo:-91.6728918,47.0197477
END:VEVENT
BEGIN:VEVENT
DTSTART;TZID=America/Chicago:20241115T180000
DTEND;TZID=America/Chicago:20241115T200000
DTSTAMP:20260421T212645
CREATED:20241104T201531Z
LAST-MODIFIED:20241220T200550Z
UID:10007135-1731693600-1731700800@castledangerbrewery.com
SUMMARY:Live Music: Ashe Berton
DESCRIPTION:
URL:https://castledangerbrewery.com/event/live-music-ashe-berton/2024-11-15/
LOCATION:Castle Danger Brewery\, 17 7th Street\, Two Harbors\, MN\, 55616\, United States
CATEGORIES:Live Music
ATTACH;FMTTYPE=image/webp:https://castledangerbrewery.com/wp-content/uploads/asheberton.webp
GEO:47.0197477;-91.6728918
X-APPLE-STRUCTURED-LOCATION;VALUE=URI;X-ADDRESS=Castle Danger Brewery 17 7th Street Two Harbors MN 55616 United States;X-APPLE-RADIUS=500;X-TITLE=17 7th Street:geo:-91.6728918,47.0197477
END:VEVENT
BEGIN:VEVENT
DTSTART;TZID=America/Chicago:20241116T180000
DTEND;TZID=America/Chicago:20241116T200000
DTSTAMP:20260421T212645
CREATED:20220323T210702Z
LAST-MODIFIED:20241220T200658Z
UID:10007136-1731780000-1731787200@castledangerbrewery.com
SUMMARY:Live Music: Northeast Timberland Band
DESCRIPTION:The Northeast Timberland Band has been making music in the Twin Ports since 2013. From styles of country rock to bluegrass to folk\, you are bound to find something you can tap along to. Join us at the Taproom tonight from 6:00 – 8:00 PM with your favorite Castle Danger brew.
URL:https://castledangerbrewery.com/event/live-music-northeast-timberland-band-2/2024-11-16/
LOCATION:Castle Danger Brewery\, 17 7th Street\, Two Harbors\, MN\, 55616\, United States
CATEGORIES:Live Music
ATTACH;FMTTYPE=image/jpeg:https://castledangerbrewery.com/wp-content/uploads/ntb-group-on-bridge-2_orig.jpeg
GEO:47.0197477;-91.6728918
X-APPLE-STRUCTURED-LOCATION;VALUE=URI;X-ADDRESS=Castle Danger Brewery 17 7th Street Two Harbors MN 55616 United States;X-APPLE-RADIUS=500;X-TITLE=17 7th Street:geo:-91.6728918,47.0197477
END:VEVENT
BEGIN:VEVENT
DTSTART;TZID=America/Chicago:20241117T110000
DTEND;TZID=America/Chicago:20241117T210000
DTSTAMP:20260421T212645
CREATED:20250429T160339Z
LAST-MODIFIED:20250429T160503Z
UID:10007926-1731841200-1731877200@castledangerbrewery.com
SUMMARY:Stock Up Sunday
DESCRIPTION:Buy one get one 1/2 off on all crowlers and growlers!
URL:https://castledangerbrewery.com/event/stock-up-sunday/2024-11-17/
LOCATION:Castle Danger Brewery\, 17 7th Street\, Two Harbors\, MN\, 55616\, United States
CATEGORIES:Weekly Specials
GEO:47.0197477;-91.6728918
X-APPLE-STRUCTURED-LOCATION;VALUE=URI;X-ADDRESS=Castle Danger Brewery 17 7th Street Two Harbors MN 55616 United States;X-APPLE-RADIUS=500;X-TITLE=17 7th Street:geo:-91.6728918,47.0197477
END:VEVENT
BEGIN:VEVENT
DTSTART;TZID=America/Chicago:20241119T180000
DTEND;TZID=America/Chicago:20241119T200000
DTSTAMP:20260421T212645
CREATED:20241003T180912Z
LAST-MODIFIED:20250827T143811Z
UID:10007070-1732039200-1732046400@castledangerbrewery.com
SUMMARY:Books and Brews
DESCRIPTION:Join the Two Harbors Public Library & Castle Danger Brewery every 3rd Tuesday of the month for Books & Brews! From 6-8pm\, bring the book you are currently reading and chat with fellow book lovers. No specific genre\, no specific title. Anything you are reading! \nEvery book lover who brings their book to chat about will receive $1 off your first beer!
URL:https://castledangerbrewery.com/event/books-and-brews/2024-11-19/
LOCATION:Castle Danger Brewery\, 17 7th Street\, Two Harbors\, MN\, 55616\, United States
CATEGORIES:Special Event
ATTACH;FMTTYPE=image/png:https://castledangerbrewery.com/wp-content/uploads/Books-Brews-Social-Graphic-no-date_Social-Graphic.png
GEO:47.0197477;-91.6728918
X-APPLE-STRUCTURED-LOCATION;VALUE=URI;X-ADDRESS=Castle Danger Brewery 17 7th Street Two Harbors MN 55616 United States;X-APPLE-RADIUS=500;X-TITLE=17 7th Street:geo:-91.6728918,47.0197477
END:VEVENT
BEGIN:VEVENT
DTSTART;VALUE=DATE:20241120
DTEND;VALUE=DATE:20241121
DTSTAMP:20260421T212645
CREATED:20221108T161721Z
LAST-MODIFIED:20260218T201821Z
UID:10005499-1732060800-1732147199@castledangerbrewery.com
SUMMARY:Double-Points for Loyalty Members
DESCRIPTION:Taproom Loyalty members will receive double-points for their purchases on Wednesdays. Beers\, a t-shirt from the merch store\, another beer\, a growler of your favorite beer to go\, all double-points on Wednesdays. Not a Taproom Loyalty member? Join on your next trip to the brewery or sign up here. 
URL:https://castledangerbrewery.com/event/double-points-for-loyalty-members/2024-11-20/
LOCATION:Castle Danger Brewery\, 17 7th Street\, Two Harbors\, MN\, 55616\, United States
CATEGORIES:Weekly Specials
ATTACH;FMTTYPE=image/png:https://castledangerbrewery.com/wp-content/uploads/4.png
GEO:47.0197477;-91.6728918
X-APPLE-STRUCTURED-LOCATION;VALUE=URI;X-ADDRESS=Castle Danger Brewery 17 7th Street Two Harbors MN 55616 United States;X-APPLE-RADIUS=500;X-TITLE=17 7th Street:geo:-91.6728918,47.0197477
END:VEVENT
BEGIN:VEVENT
DTSTART;TZID=America/Chicago:20241122T180000
DTEND;TZID=America/Chicago:20241122T200000
DTSTAMP:20260421T212645
CREATED:20241107T184830Z
LAST-MODIFIED:20241107T184830Z
UID:10007398-1732298400-1732305600@castledangerbrewery.com
SUMMARY:Pints for a Cause Beer Release Party - Friends of the Two Harbors Public Library
DESCRIPTION:Live music from John Cron. Donate $5 or more and receive a BOGO beer deal. Be the first to try our small batch Czech Dark Lager… A portion of the proceeds with be donated to Friends of the Two Harbors Library!
URL:https://castledangerbrewery.com/event/pints-for-a-cause-beer-release-party-friends-of-the-two-harbors-public-library/
LOCATION:Castle Danger Brewery\, 17 7th Street\, Two Harbors\, MN\, 55616\, United States
CATEGORIES:Special Event
ATTACH;FMTTYPE=image/png:https://castledangerbrewery.com/wp-content/uploads/PFAC-Friends-of-the-Library-IG-Square.png
GEO:47.0197477;-91.6728918
X-APPLE-STRUCTURED-LOCATION;VALUE=URI;X-ADDRESS=Castle Danger Brewery 17 7th Street Two Harbors MN 55616 United States;X-APPLE-RADIUS=500;X-TITLE=17 7th Street:geo:-91.6728918,47.0197477
END:VEVENT
BEGIN:VEVENT
DTSTART;TZID=America/Chicago:20241124T110000
DTEND;TZID=America/Chicago:20241124T210000
DTSTAMP:20260421T212645
CREATED:20250429T160339Z
LAST-MODIFIED:20250429T160503Z
UID:10007927-1732446000-1732482000@castledangerbrewery.com
SUMMARY:Stock Up Sunday
DESCRIPTION:Buy one get one 1/2 off on all crowlers and growlers!
URL:https://castledangerbrewery.com/event/stock-up-sunday/2024-11-24/
LOCATION:Castle Danger Brewery\, 17 7th Street\, Two Harbors\, MN\, 55616\, United States
CATEGORIES:Weekly Specials
GEO:47.0197477;-91.6728918
X-APPLE-STRUCTURED-LOCATION;VALUE=URI;X-ADDRESS=Castle Danger Brewery 17 7th Street Two Harbors MN 55616 United States;X-APPLE-RADIUS=500;X-TITLE=17 7th Street:geo:-91.6728918,47.0197477
END:VEVENT
BEGIN:VEVENT
DTSTART;VALUE=DATE:20241127
DTEND;VALUE=DATE:20241128
DTSTAMP:20260421T212645
CREATED:20221108T161721Z
LAST-MODIFIED:20260218T201821Z
UID:10005500-1732665600-1732751999@castledangerbrewery.com
SUMMARY:Double-Points for Loyalty Members
DESCRIPTION:Taproom Loyalty members will receive double-points for their purchases on Wednesdays. Beers\, a t-shirt from the merch store\, another beer\, a growler of your favorite beer to go\, all double-points on Wednesdays. Not a Taproom Loyalty member? Join on your next trip to the brewery or sign up here. 
URL:https://castledangerbrewery.com/event/double-points-for-loyalty-members/2024-11-27/
LOCATION:Castle Danger Brewery\, 17 7th Street\, Two Harbors\, MN\, 55616\, United States
CATEGORIES:Weekly Specials
ATTACH;FMTTYPE=image/png:https://castledangerbrewery.com/wp-content/uploads/4.png
GEO:47.0197477;-91.6728918
X-APPLE-STRUCTURED-LOCATION;VALUE=URI;X-ADDRESS=Castle Danger Brewery 17 7th Street Two Harbors MN 55616 United States;X-APPLE-RADIUS=500;X-TITLE=17 7th Street:geo:-91.6728918,47.0197477
END:VEVENT
BEGIN:VEVENT
DTSTART;TZID=America/Chicago:20241129T180000
DTEND;TZID=America/Chicago:20241129T200000
DTSTAMP:20260421T212645
CREATED:20241015T162759Z
LAST-MODIFIED:20241015T162759Z
UID:10007129-1732903200-1732910400@castledangerbrewery.com
SUMMARY:Live Music: THUG - Two Harbors Ukulele Group
DESCRIPTION:We are so excited to host THUG at the taproom once again! From their website: \n“THUG was founded by Al Anderson in 2010. Our mission is to serve the community by spreading the joy of music through education and live performances. We really enjoy seeing the smiles on our audiences faces as they hear us for the first time. Generally the expectations for a ukulele group are pretty low\, so they are often pleasantly surprised by our music.” \nPlease join us so we can have a sea of smiles for them as they perform! All tips given to the players\, as well as their performance fee from CDB\, go toward putting on their annual Silver Creek Ukulele Festival.
URL:https://castledangerbrewery.com/event/live-music-thug-two-harbors-ukulele-group/
LOCATION:Castle Danger Brewery\, 17 7th Street\, Two Harbors\, MN\, 55616\, United States
CATEGORIES:Live Music
ATTACH;FMTTYPE=image/jpeg:https://castledangerbrewery.com/wp-content/uploads/THUG.jpg
GEO:47.0197477;-91.6728918
X-APPLE-STRUCTURED-LOCATION;VALUE=URI;X-ADDRESS=Castle Danger Brewery 17 7th Street Two Harbors MN 55616 United States;X-APPLE-RADIUS=500;X-TITLE=17 7th Street:geo:-91.6728918,47.0197477
END:VEVENT
END:VCALENDAR