BEGIN:VCALENDAR
VERSION:2.0
PRODID:-//Castle Danger Brewing - ECPv6.15.20//NONSGML v1.0//EN
CALSCALE:GREGORIAN
METHOD:PUBLISH
X-ORIGINAL-URL:https://castledangerbrewery.com
X-WR-CALDESC:Events for Castle Danger Brewing
REFRESH-INTERVAL;VALUE=DURATION:PT1H
X-Robots-Tag:noindex
X-PUBLISHED-TTL:PT1H
BEGIN:VTIMEZONE
TZID:America/Chicago
BEGIN:DAYLIGHT
TZOFFSETFROM:-0600
TZOFFSETTO:-0500
TZNAME:CDT
DTSTART:20170312T080000
END:DAYLIGHT
BEGIN:STANDARD
TZOFFSETFROM:-0500
TZOFFSETTO:-0600
TZNAME:CST
DTSTART:20171105T070000
END:STANDARD
BEGIN:DAYLIGHT
TZOFFSETFROM:-0600
TZOFFSETTO:-0500
TZNAME:CDT
DTSTART:20180311T080000
END:DAYLIGHT
BEGIN:STANDARD
TZOFFSETFROM:-0500
TZOFFSETTO:-0600
TZNAME:CST
DTSTART:20181104T070000
END:STANDARD
BEGIN:DAYLIGHT
TZOFFSETFROM:-0600
TZOFFSETTO:-0500
TZNAME:CDT
DTSTART:20190310T080000
END:DAYLIGHT
BEGIN:STANDARD
TZOFFSETFROM:-0500
TZOFFSETTO:-0600
TZNAME:CST
DTSTART:20191103T070000
END:STANDARD
END:VTIMEZONE
BEGIN:VEVENT
DTSTART;TZID=America/Chicago:20180824T170000
DTEND;TZID=America/Chicago:20180824T190000
DTSTAMP:20260419T094353
CREATED:20180725T183040Z
LAST-MODIFIED:20180725T183040Z
UID:10005652-1535130000-1535137200@castledangerbrewery.com
SUMMARY:BOULDER TAP HOUSE TAKEOVER
DESCRIPTION:Join us at Boulder Tap House in Mankato on Friday\, August 24th from 5-7pm. We’ll be pouring dangerously good ales all night long. Come and have a beer with us!
URL:https://castledangerbrewery.com/event/boulder-tap-house-takeover-3/
LOCATION:Boulder Tap House – Mankato\, 291 Saint Andrews Dr\, Mankato\, MN\, 56001\, United States
CATEGORIES:Tap Takeover
GEO:44.1805041;-93.957317
X-APPLE-STRUCTURED-LOCATION;VALUE=URI;X-ADDRESS=Boulder Tap House – Mankato 291 Saint Andrews Dr Mankato MN 56001 United States;X-APPLE-RADIUS=500;X-TITLE=291 Saint Andrews Dr:geo:-93.957317,44.1805041
END:VEVENT
END:VCALENDAR