BEGIN:VCALENDAR
VERSION:2.0
PRODID:-//Castle Danger Brewing - ECPv6.15.20//NONSGML v1.0//EN
CALSCALE:GREGORIAN
METHOD:PUBLISH
X-ORIGINAL-URL:https://castledangerbrewery.com
X-WR-CALDESC:Events for Castle Danger Brewing
REFRESH-INTERVAL;VALUE=DURATION:PT1H
X-Robots-Tag:noindex
X-PUBLISHED-TTL:PT1H
BEGIN:VTIMEZONE
TZID:America/Chicago
BEGIN:DAYLIGHT
TZOFFSETFROM:-0600
TZOFFSETTO:-0500
TZNAME:CDT
DTSTART:20160313T080000
END:DAYLIGHT
BEGIN:STANDARD
TZOFFSETFROM:-0500
TZOFFSETTO:-0600
TZNAME:CST
DTSTART:20161106T070000
END:STANDARD
BEGIN:DAYLIGHT
TZOFFSETFROM:-0600
TZOFFSETTO:-0500
TZNAME:CDT
DTSTART:20170312T080000
END:DAYLIGHT
BEGIN:STANDARD
TZOFFSETFROM:-0500
TZOFFSETTO:-0600
TZNAME:CST
DTSTART:20171105T070000
END:STANDARD
BEGIN:DAYLIGHT
TZOFFSETFROM:-0600
TZOFFSETTO:-0500
TZNAME:CDT
DTSTART:20180311T080000
END:DAYLIGHT
BEGIN:STANDARD
TZOFFSETFROM:-0500
TZOFFSETTO:-0600
TZNAME:CST
DTSTART:20181104T070000
END:STANDARD
END:VTIMEZONE
BEGIN:VEVENT
DTSTART;TZID=America/Chicago:20170930T180000
DTEND;TZID=America/Chicago:20170930T210000
DTSTAMP:20260420T014052
CREATED:20170925T193046Z
LAST-MODIFIED:20170926T173038Z
UID:10004759-1506794400-1506805200@castledangerbrewery.com
SUMMARY:OKTOBERFEST AT BOWERY BROS
DESCRIPTION:Join us at Radisson Duluth\, Bowery Brothers\, for an Oktoberfest celebration on Saturday\, September 30th from 6-9pm. Prost!
URL:https://castledangerbrewery.com/event/oktoberfest-bowery-bros/
LOCATION:Bowery Brothers – Radisson Duluth\, 505 W Superior St\, Duluth\, MN\, 55802\, United States
CATEGORIES:Special Event
ATTACH;FMTTYPE=image/jpeg:https://castledangerbrewery.com/wp-content/uploads/Oktoberfest-Tap-Event-2.jpg
GEO:46.7820437;-92.1053739
X-APPLE-STRUCTURED-LOCATION;VALUE=URI;X-ADDRESS=Bowery Brothers – Radisson Duluth 505 W Superior St Duluth MN 55802 United States;X-APPLE-RADIUS=500;X-TITLE=505 W Superior St:geo:-92.1053739,46.7820437
END:VEVENT
END:VCALENDAR