BEGIN:VCALENDAR
VERSION:2.0
PRODID:-//Castle Danger Brewing - ECPv6.15.20//NONSGML v1.0//EN
CALSCALE:GREGORIAN
METHOD:PUBLISH
X-WR-CALNAME:Castle Danger Brewing
X-ORIGINAL-URL:https://castledangerbrewery.com
X-WR-CALDESC:Events for Castle Danger Brewing
REFRESH-INTERVAL;VALUE=DURATION:PT1H
X-Robots-Tag:noindex
X-PUBLISHED-TTL:PT1H
BEGIN:VTIMEZONE
TZID:UTC
BEGIN:STANDARD
TZOFFSETFROM:+0000
TZOFFSETTO:+0000
TZNAME:UTC
DTSTART:20150101T000000
END:STANDARD
END:VTIMEZONE
BEGIN:VEVENT
DTSTART;TZID=UTC:20160610T170000
DTEND;TZID=UTC:20160610T190000
DTSTAMP:20260421T212015
CREATED:20160520T212457Z
LAST-MODIFIED:20160520T212857Z
UID:10004254-1465578000-1465585200@castledangerbrewery.com
SUMMARY:TAP TAKEOVER CASCADE LODGE
DESCRIPTION:Join us at Cascade Lodge for a fun night of Castle Danger beers!\nWe’ll have giveaways: free CDB logo items & free samples! \nPouring these dangerously good ales:\nSummer Crush\nCastle Cream Ale\n17-7 Pale Ale\nOde IPA
URL:https://castledangerbrewery.com/event/tap-takeover-cascade-lodge/
LOCATION:Cascade Lodge\, 3719 Hwy 61\, Lutsen\, MN\, 55612\, United States
CATEGORIES:Tap Takeover
ATTACH;FMTTYPE=image/jpeg:https://castledangerbrewery.com/wp-content/uploads/Castle-Danger-Brewery-Tap-Takeover-Poster-Cascade-Lodge.jpeg
GEO:47.705903;-90.5306886
X-APPLE-STRUCTURED-LOCATION;VALUE=URI;X-ADDRESS=Cascade Lodge 3719 Hwy 61 Lutsen MN 55612 United States;X-APPLE-RADIUS=500;X-TITLE=3719 Hwy 61:geo:-90.5306886,47.705903
END:VEVENT
END:VCALENDAR