BEGIN:VCALENDAR
VERSION:2.0
PRODID:-//Castle Danger Brewing - ECPv6.15.20//NONSGML v1.0//EN
CALSCALE:GREGORIAN
METHOD:PUBLISH
X-WR-CALNAME:Castle Danger Brewing
X-ORIGINAL-URL:https://castledangerbrewery.com
X-WR-CALDESC:Events for Castle Danger Brewing
REFRESH-INTERVAL;VALUE=DURATION:PT1H
X-Robots-Tag:noindex
X-PUBLISHED-TTL:PT1H
BEGIN:VTIMEZONE
TZID:America/Chicago
BEGIN:DAYLIGHT
TZOFFSETFROM:-0600
TZOFFSETTO:-0500
TZNAME:CDT
DTSTART:20170312T080000
END:DAYLIGHT
BEGIN:STANDARD
TZOFFSETFROM:-0500
TZOFFSETTO:-0600
TZNAME:CST
DTSTART:20171105T070000
END:STANDARD
BEGIN:DAYLIGHT
TZOFFSETFROM:-0600
TZOFFSETTO:-0500
TZNAME:CDT
DTSTART:20180311T080000
END:DAYLIGHT
BEGIN:STANDARD
TZOFFSETFROM:-0500
TZOFFSETTO:-0600
TZNAME:CST
DTSTART:20181104T070000
END:STANDARD
BEGIN:DAYLIGHT
TZOFFSETFROM:-0600
TZOFFSETTO:-0500
TZNAME:CDT
DTSTART:20190310T080000
END:DAYLIGHT
BEGIN:STANDARD
TZOFFSETFROM:-0500
TZOFFSETTO:-0600
TZNAME:CST
DTSTART:20191103T070000
END:STANDARD
END:VTIMEZONE
BEGIN:VEVENT
DTSTART;TZID=America/Chicago:20180707T150000
DTEND;TZID=America/Chicago:20180707T190000
DTSTAMP:20260424T175819
CREATED:20180705T214908Z
LAST-MODIFIED:20180705T214908Z
UID:10005637-1530975600-1530990000@castledangerbrewery.com
SUMMARY:FIREFLY BREWFEST
DESCRIPTION:Join us at the FireFly BrewFest in Nevis\, MN on July 7th. Part of the proceeds from the festival will go to the Make-A-Wish Foundation\, which means you can feel great about drinking some dangerously good ales. \nMore details here: www.fireflyeventbarnmn.com
URL:https://castledangerbrewery.com/event/firefly-brewfest/
LOCATION:FireFly Event Barn & Taproom\, 25275 State 34\, Nevis\, MN\, 56467\, United States
CATEGORIES:Festival
ORGANIZER;CN="FireFly Event Barn & Taproom":MAILTO:FIREFLYEVENTBARNMN@GMAIL.COM
GEO:46.9573703;-94.843336
X-APPLE-STRUCTURED-LOCATION;VALUE=URI;X-ADDRESS=FireFly Event Barn & Taproom 25275 State 34 Nevis MN 56467 United States;X-APPLE-RADIUS=500;X-TITLE=25275 State 34:geo:-94.843336,46.9573703
END:VEVENT
END:VCALENDAR