BEGIN:VCALENDAR
VERSION:2.0
PRODID:-//Castle Danger Brewing - ECPv6.15.20//NONSGML v1.0//EN
CALSCALE:GREGORIAN
METHOD:PUBLISH
X-WR-CALNAME:Castle Danger Brewing
X-ORIGINAL-URL:https://castledangerbrewery.com
X-WR-CALDESC:Events for Castle Danger Brewing
REFRESH-INTERVAL;VALUE=DURATION:PT1H
X-Robots-Tag:noindex
X-PUBLISHED-TTL:PT1H
BEGIN:VTIMEZONE
TZID:America/Chicago
BEGIN:DAYLIGHT
TZOFFSETFROM:-0600
TZOFFSETTO:-0500
TZNAME:CDT
DTSTART:20170312T080000
END:DAYLIGHT
BEGIN:STANDARD
TZOFFSETFROM:-0500
TZOFFSETTO:-0600
TZNAME:CST
DTSTART:20171105T070000
END:STANDARD
BEGIN:DAYLIGHT
TZOFFSETFROM:-0600
TZOFFSETTO:-0500
TZNAME:CDT
DTSTART:20180311T080000
END:DAYLIGHT
BEGIN:STANDARD
TZOFFSETFROM:-0500
TZOFFSETTO:-0600
TZNAME:CST
DTSTART:20181104T070000
END:STANDARD
BEGIN:DAYLIGHT
TZOFFSETFROM:-0600
TZOFFSETTO:-0500
TZNAME:CDT
DTSTART:20190310T080000
END:DAYLIGHT
BEGIN:STANDARD
TZOFFSETFROM:-0500
TZOFFSETTO:-0600
TZNAME:CST
DTSTART:20191103T070000
END:STANDARD
END:VTIMEZONE
BEGIN:VEVENT
DTSTART;TZID=America/Chicago:20180825T090000
DTEND;TZID=America/Chicago:20180825T130000
DTSTAMP:20260419T093324
CREATED:20180814T152443Z
LAST-MODIFIED:20180814T153213Z
UID:10005663-1535187600-1535202000@castledangerbrewery.com
SUMMARY:STMA CORK & KEG 5K
DESCRIPTION:Join us at the STMA Rotary Cork & Keg 5k on August 25th. Register here: www.corkkeg.com \nParticipants will receive a refreshing beverage at every mile of the 5k race. Funds from this race help support our local projects including “Beds for Kids\,” which has provided over 100 beds to kids in Wright County\, college scholarships\, and class trips\, STRIVE educational mentoring\, Adopt-A-Highway\, and Little Libraries and more.
URL:https://castledangerbrewery.com/event/stma-cork-keg-5k/
LOCATION:Lower Recreation Center\, 32nd St NE\, St Michael\, MN\, 55376\, United States
CATEGORIES:Special Event
ORGANIZER;CN="STMA Rotary Club":MAILTO:stmacorknkeg@gmail.com
GEO:45.1992644;-93.6617786
X-APPLE-STRUCTURED-LOCATION;VALUE=URI;X-ADDRESS=Lower Recreation Center 32nd St NE St Michael MN 55376 United States;X-APPLE-RADIUS=500;X-TITLE=32nd St NE:geo:-93.6617786,45.1992644
END:VEVENT
END:VCALENDAR