BEGIN:VCALENDAR
VERSION:2.0
PRODID:-//Castle Danger Brewing - ECPv6.15.20//NONSGML v1.0//EN
CALSCALE:GREGORIAN
METHOD:PUBLISH
X-WR-CALNAME:Castle Danger Brewing
X-ORIGINAL-URL:https://castledangerbrewery.com
X-WR-CALDESC:Events for Castle Danger Brewing
REFRESH-INTERVAL;VALUE=DURATION:PT1H
X-Robots-Tag:noindex
X-PUBLISHED-TTL:PT1H
BEGIN:VTIMEZONE
TZID:UTC
BEGIN:STANDARD
TZOFFSETFROM:+0000
TZOFFSETTO:+0000
TZNAME:UTC
DTSTART:20150101T000000
END:STANDARD
END:VTIMEZONE
BEGIN:VEVENT
DTSTART;TZID=UTC:20160616T150000
DTEND;TZID=UTC:20160616T180000
DTSTAMP:20260421T214322
CREATED:20160610T004714Z
LAST-MODIFIED:20160610T004733Z
UID:10004391-1466089200-1466100000@castledangerbrewery.com
SUMMARY:TAP TAKEOVER: NEW BOHEMIA MANKATO
DESCRIPTION:Castle Danger beers are now available in Southern Minnesota! Let’s celebrate with some dangerously good ales. Stop by New Bohemia in Mankato to meet our brewery guys\, get some free stuff and sample our beers.
URL:https://castledangerbrewery.com/event/tap-takeover-new-bohemia-mankato/
LOCATION:New Bohemia\, 12 Civic Center\, Mankato\, MN\, 56001\, United States
CATEGORIES:Tap Takeover
GEO:44.1648166;-94.005306
X-APPLE-STRUCTURED-LOCATION;VALUE=URI;X-ADDRESS=New Bohemia 12 Civic Center Mankato MN 56001 United States;X-APPLE-RADIUS=500;X-TITLE=12 Civic Center:geo:-94.005306,44.1648166
END:VEVENT
END:VCALENDAR